BEGIN:VCALENDAR
VERSION:2.0
PRODID:-//FNOMCeO - ECPv5.16.4//NONSGML v1.0//EN
CALSCALE:GREGORIAN
METHOD:PUBLISH
X-WR-CALNAME:FNOMCeO
X-ORIGINAL-URL:https://portale.fnomceo.it
X-WR-CALDESC:Eventi per FNOMCeO
BEGIN:VTIMEZONE
TZID:Europe/Rome
BEGIN:DAYLIGHT
TZOFFSETFROM:+0100
TZOFFSETTO:+0200
TZNAME:CEST
DTSTART:20190331T010000
END:DAYLIGHT
BEGIN:STANDARD
TZOFFSETFROM:+0200
TZOFFSETTO:+0100
TZNAME:CET
DTSTART:20191027T010000
END:STANDARD
END:VTIMEZONE
BEGIN:VEVENT
DTSTART;TZID=Europe/Rome:20191012T083000
DTEND;TZID=Europe/Rome:20191012T133000
DTSTAMP:20260424T071038
CREATED:20190927T145943Z
LAST-MODIFIED:20191007T085300Z
UID:45469-1570869000-1570887000@portale.fnomceo.it
SUMMARY:Latina\, Comunicazione in sanità
DESCRIPTION:Obiettivo del convegno\, fare il punto sulle varie forme di comunicazione che coinvolgono medici e cittadini attraverso i giornalisti. Molte le facce della comunicazione a cominciare da quella fra professionisti\, come comunicano i medici fra loro e soprattutto come comunicano con il paziente o con i familiari. In esame anche i media e l’informazione medica\, in cronaca sulla carta stampata e nelle rubriche radiofoniche e televisive. Ma anche il ruolo della comunicazione istituzionale nello scacchiere della tutela della salute pubblica e il valore della comunicazione sanitaria nel territorio\, non tralasciando l’importanza della verifica delle fonti. Fra i relatori del convegno: Sandro Bartolomeo\, medico chirurgo e specialista in neuropsichiatria infantile; Mirella Taranto\, addetta stampa dell’Istituto Superiore di Sanità; Giuseppe Tipaldo\, sociologo della comunicazione\, Domenica Taruscio\, direttore del “Centro Nazionale Malattie Rare”; Pier David Malloni\, responsabile comunicazione del “Centro Nazionale Sangue” e collaboratore “Ansa Salute”; Licia Pastore\, addetto stampa Asl Lt; Giovanni Del Giaccio\, giornalista della testata “Il Messaggero” ed esperto in problemi sanitari; Roberta Sottoriva\, giornalista Rai\, direttore responsabile della testata giornalistica  Lunanotizie.it.  Responsabili scientifici del progetto la dott.ssa Rita Salvatori e il dott. Giovanni Baiano che apriranno i lavori presentando ed inaugurando il corso “Liceo a Curvatura Biomedica” per l’istituto “Leon Battista Alberti”. Modera l’incontro Dina Tomezzoli\, addetto stampa dell’Ordine dei Medici di Latina.
URL:https://portale.fnomceo.it/eventi-fnomceo/latina-comunicazione-in-sanita/
LOCATION:Aula Magna Liceo Scientifico “Leon Battista Alberti”\, Via Santa Reparata\, 11\, Minturno\, Latina\, Italia
CATEGORIES:Eventi degli Ordini,Formazione e aggiornamento
ATTACH;FMTTYPE=image/png:https://portale.fnomceo.it/wp-content/uploads/2019/09/12.10.19.png
ORGANIZER;CN="OMCeO%20Latina":MAILTO:info@ordinemedicilatina.it
GEO:41.2500457;13.7308778
X-APPLE-STRUCTURED-LOCATION;VALUE=URI;X-ADDRESS=Aula Magna Liceo Scientifico “Leon Battista Alberti” Via Santa Reparata 11 Minturno Latina Italia;X-APPLE-RADIUS=500;X-TITLE=Via Santa Reparata\, 11:geo:13.7308778,41.2500457
END:VEVENT
END:VCALENDAR