BEGIN:VCALENDAR
VERSION:2.0
PRODID:-//FNOMCeO - ECPv5.16.4//NONSGML v1.0//EN
CALSCALE:GREGORIAN
METHOD:PUBLISH
X-WR-CALNAME:FNOMCeO
X-ORIGINAL-URL:https://portale.fnomceo.it
X-WR-CALDESC:Eventi per FNOMCeO
BEGIN:VTIMEZONE
TZID:Europe/Rome
BEGIN:DAYLIGHT
TZOFFSETFROM:+0100
TZOFFSETTO:+0200
TZNAME:CEST
DTSTART:20230326T010000
END:DAYLIGHT
BEGIN:STANDARD
TZOFFSETFROM:+0200
TZOFFSETTO:+0100
TZNAME:CET
DTSTART:20231029T010000
END:STANDARD
END:VTIMEZONE
BEGIN:VEVENT
DTSTART;TZID=Europe/Rome:20230930T083000
DTEND;TZID=Europe/Rome:20230930T150000
DTSTAMP:20260424T175802
CREATED:20230911T084352Z
LAST-MODIFIED:20230913T084707Z
UID:73357-1696062600-1696086000@portale.fnomceo.it
SUMMARY:Latina\, Evento ECM Medicine "Non Convenzionali oggi: Aspetti normativi e medico-legali. Esperienze Cliniche a confronto"
DESCRIPTION:Medicine Non Convenzionali oggi: Aspetti normativi e medico-legali. Esperienze Cliniche a confronto\nLatina\, Sede OMCeO\n30 settembre 2023 \nEvento ECM 5752 – 5 crediti formativi\nIscrizione compilando apposito modulo on-line al seguente link https://omceo.latraccia.it/areariservataomceolt/\nL’iscrizione è gratuita
URL:https://portale.fnomceo.it/eventi-fnomceo/latina-evento-ecm-medicine-non-convenzionali-oggi-aspetti-normativi-e-medico-legali-esperienze-cliniche-a-confronto/
LOCATION:OMCeO Latina\, piazza A. Celli\, 3\, Latina\, Italia
CATEGORIES:Eventi degli Ordini,Formazione e aggiornamento
ORGANIZER;CN="OMCeO%20Latina":MAILTO:info@ordinemedicilatina.it
GEO:41.4693889;12.9011513
X-APPLE-STRUCTURED-LOCATION;VALUE=URI;X-ADDRESS=OMCeO Latina piazza A. Celli 3 Latina Italia;X-APPLE-RADIUS=500;X-TITLE=piazza A. Celli\, 3:geo:12.9011513,41.4693889
END:VEVENT
END:VCALENDAR