BEGIN:VCALENDAR
VERSION:2.0
PRODID:-//FNOMCeO - ECPv5.16.4//NONSGML v1.0//EN
CALSCALE:GREGORIAN
METHOD:PUBLISH
X-WR-CALNAME:FNOMCeO
X-ORIGINAL-URL:https://portale.fnomceo.it
X-WR-CALDESC:Eventi per FNOMCeO
BEGIN:VTIMEZONE
TZID:Europe/Rome
BEGIN:DAYLIGHT
TZOFFSETFROM:+0100
TZOFFSETTO:+0200
TZNAME:CEST
DTSTART:20190331T010000
END:DAYLIGHT
BEGIN:STANDARD
TZOFFSETFROM:+0200
TZOFFSETTO:+0100
TZNAME:CET
DTSTART:20191027T010000
END:STANDARD
END:VTIMEZONE
BEGIN:VEVENT
DTSTART;TZID=Europe/Rome:20190601T080000
DTEND;TZID=Europe/Rome:20190601T130000
DTSTAMP:20260425T131026
CREATED:20190527T132700Z
LAST-MODIFIED:20190527T132700Z
UID:42404-1559376000-1559394000@portale.fnomceo.it
SUMMARY:Latina\, “L’ UTILIZZO IN PROFILASSI DELLE EPARINE A BASSO PESO MOLECOLARE (EBPM) NELLE PERSONE CON AUMENTATO RISCHIO DI TROMBOEMBOLIA VENOSA (TEV) IN CONTINUITA’ TERAPEUTICA OSPEDALE-TERRITORIO(HT)”
DESCRIPTION:Obiettivi formativi \nFARMACO EPIDEMIOLOGIA\,FARMACOECONOMIA\,FARMACOVIGILANZA.(25) \nObiettivi del corso \nOttimizzare gli approcci terapeutici e modalità prescritte secondo i principi dell’ appropriatezza( eleggibilità\,prescrivibili\, e rimborsabilità). Di fare sistema per razionalizzare l’ uso delle EBPM attraverso l’utilizzo le LG/BPC applicando le regole prescritte degli enti regolatori AIFA e regionali\, gestire cosi in maniera appropriata anche la prescrizione. \nISCRIZIONI \nE’ possibile effettuare iscrizione al seguente link: https://www.mytimetandt.it/portfolio/profilassieparinebassopeso/ \nSi comunica che le iscrizioni online saranno chiuse venerdi 31 Maggio 2019 ore 12:00. \nNel caso in cui la mattina dell’evento ci siano ancora posti disponibili\, sarà possibile effettuare l’iscrizione. \nNota Bene: Il corso è gratuito per i Medici Chirurghi ed Odontoiatri iscritti all’albo dell’Ordine dei Medici e dei Chirurghi ed Odontoiatri della Provincia di Latina. \nINFORMAZIONI GENERALI: – L’attestato di partecipazione (giustificativo del lavoro) sarà consegnato il giorno stesso alla chiusura del corso solo agli aventi diritto (professioni e discipline accreditate) dietro compilazione e restituzione della scheda rilevamento dati. -Il certificato ECM sarà inviato agli aventi diritto 90 giorni dalla chiusura del corso.
URL:https://portale.fnomceo.it/eventi-fnomceo/latina-l-utilizzo-in-profilassi-delle-eparine-a-basso-peso-molecolare-ebpm-nelle-persone-con-aumentato-rischio-di-tromboembolia-venosa-tev-in-continuita-terapeutica-osp/2019-06-01/
LOCATION:Sala Conferenze Ordine dei Medici Latina\, Piazza Angelo Celli 3\, Latina\, Italia
CATEGORIES:Eventi degli Ordini,Formazione e aggiornamento
ORGANIZER;CN="OMCeO%20Latina":MAILTO:info@ordinemedicilatina.it
GEO:41.4692763;12.9013937
X-APPLE-STRUCTURED-LOCATION;VALUE=URI;X-ADDRESS=Sala Conferenze Ordine dei Medici Latina Piazza Angelo Celli 3 Latina Italia;X-APPLE-RADIUS=500;X-TITLE=Piazza Angelo Celli 3:geo:12.9013937,41.4692763
END:VEVENT
END:VCALENDAR