BEGIN:VCALENDAR
VERSION:2.0
PRODID:-//FNOMCeO - ECPv5.16.4//NONSGML v1.0//EN
CALSCALE:GREGORIAN
METHOD:PUBLISH
X-WR-CALNAME:FNOMCeO
X-ORIGINAL-URL:https://portale.fnomceo.it
X-WR-CALDESC:Eventi per FNOMCeO
BEGIN:VTIMEZONE
TZID:Europe/Rome
BEGIN:DAYLIGHT
TZOFFSETFROM:+0100
TZOFFSETTO:+0200
TZNAME:CEST
DTSTART:20180325T010000
END:DAYLIGHT
BEGIN:STANDARD
TZOFFSETFROM:+0200
TZOFFSETTO:+0100
TZNAME:CET
DTSTART:20181028T010000
END:STANDARD
END:VTIMEZONE
BEGIN:VEVENT
DTSTART;TZID=Europe/Rome:20180125T180000
DTEND;TZID=Europe/Rome:20180125T184000
DTSTAMP:20260422T192152
CREATED:20180116T070227Z
LAST-MODIFIED:20180116T070836Z
UID:29179-1516903200-1516905600@portale.fnomceo.it
SUMMARY:EBSCO - L’utilizzo dei termini MeSH per la ricerca sicura e di precisione
DESCRIPTION:Obiettivi del corso: saper consultare il vocabolario controllato MeSH: leggere i termini\, inquadrarli negli alberi e nelle relazioni con altri termini; ricercare in maniera semplice o avanzata Medline Complete a partire dal tesauro MeSH; panoramica del sito di assistenza help.ebsco.com e delle offerte formative EBSCO aperte.
URL:https://portale.fnomceo.it/eventi-fnomceo/lutilizzo-dei-termini-mesh-la-ricerca-sicura-precisione-2/
CATEGORIES:Formazione e aggiornamento
END:VEVENT
END:VCALENDAR