BEGIN:VCALENDAR
VERSION:2.0
PRODID:-//FNOMCeO - ECPv5.16.4//NONSGML v1.0//EN
CALSCALE:GREGORIAN
METHOD:PUBLISH
X-WR-CALNAME:FNOMCeO
X-ORIGINAL-URL:https://portale.fnomceo.it
X-WR-CALDESC:Eventi per FNOMCeO
BEGIN:VTIMEZONE
TZID:Europe/Rome
BEGIN:DAYLIGHT
TZOFFSETFROM:+0100
TZOFFSETTO:+0200
TZNAME:CEST
DTSTART:20180325T010000
END:DAYLIGHT
BEGIN:STANDARD
TZOFFSETFROM:+0200
TZOFFSETTO:+0100
TZNAME:CET
DTSTART:20181028T010000
END:STANDARD
END:VTIMEZONE
BEGIN:VEVENT
DTSTART;VALUE=DATE:20180131
DTEND;VALUE=DATE:20180201
DTSTAMP:20260423T022400
CREATED:20180116T140059Z
LAST-MODIFIED:20180116T140233Z
UID:29403-1517356800-1517443199@portale.fnomceo.it
SUMMARY:Master di II Livello "Nuove competenze per la Medicina generale. Affrontare la complessità e i cambiamenti tecnologico-organizzativi"
DESCRIPTION:Il Master è progettato e svolto congiuntamente con la Fondazione Bruno Kessler e in sinergia con l’Ordine dei Medici della provincia di Trento\, la Scuola di formazione specifica in Medicina Generale e l’Azienda per i Servizi Sanitari di Trento. \nFinalità del Master è quella di contribuire alla formazione del medico di medicina generale come professionista capace di affrontare e gestire efficacemente i bisogni di pazienti con profili complessi\, di coordinare cure di alta qualità in team e di conoscere e saper utilizzare le tecnologie dell’informazione e comunicazione e gli strumenti dell’intelligenza artificiale\, nell’ambito dei nuovi assetti organizzativi delle cure primarie. \nLe lezioni iniziano nel mese di febbraio 2018 e si concludono in dicembre 2018 (escluso il mese di agosto). Il mese di gennaio 2019 sarà dedicato alla presentazione del progetto finale.  \nLe domande di partecipazione al Master devono essere presentate entro le ore 12 del 31 gennaio 2018 esclusivamente tramite application on line. \n  \n 
URL:https://portale.fnomceo.it/eventi-fnomceo/master-ii-livello-nuove-competenze-la-medicina-generale-affrontare-la-complessita-cambiamenti-tecnologico-organizzativi/
CATEGORIES:Formazione e aggiornamento
ORGANIZER;CN="Fondazione%20Bruno%20Kessler%20%E2%80%93%20Programma%20FBK%20per%20la%20Salute":MAILTO:masterMG@fbk.eu
END:VEVENT
END:VCALENDAR