BEGIN:VCALENDAR
VERSION:2.0
PRODID:-//FNOMCeO - ECPv5.16.4//NONSGML v1.0//EN
CALSCALE:GREGORIAN
METHOD:PUBLISH
X-WR-CALNAME:FNOMCeO
X-ORIGINAL-URL:https://portale.fnomceo.it
X-WR-CALDESC:Eventi per FNOMCeO
BEGIN:VTIMEZONE
TZID:Europe/Rome
BEGIN:DAYLIGHT
TZOFFSETFROM:+0100
TZOFFSETTO:+0200
TZNAME:CEST
DTSTART:20230326T010000
END:DAYLIGHT
BEGIN:STANDARD
TZOFFSETFROM:+0200
TZOFFSETTO:+0100
TZNAME:CET
DTSTART:20231029T010000
END:STANDARD
END:VTIMEZONE
BEGIN:VEVENT
DTSTART;TZID=Europe/Rome:20231201T100000
DTEND;TZID=Europe/Rome:20231201T173000
DTSTAMP:20260423T154354
CREATED:20231113T110829Z
LAST-MODIFIED:20231113T110829Z
UID:74426-1701424800-1701451800@portale.fnomceo.it
SUMMARY:Milano\, CEF: "L'etica di fine-vita tra passato e futuro"
DESCRIPTION:
URL:https://portale.fnomceo.it/eventi-fnomceo/milano-cef-letica-di-fine-vita-tra-passato-e-futuro/
LOCATION:Milano\, Casa VIDAS Giovanna Cavazzoni\, Via Ugo Ojetti\, 66\, Milano\, 20151\, Italia
CATEGORIES:Eventi patrocinati
GEO:45.4958265;9.1111934
X-APPLE-STRUCTURED-LOCATION;VALUE=URI;X-ADDRESS=Milano Casa VIDAS Giovanna Cavazzoni Via Ugo Ojetti 66 Milano 20151 Italia;X-APPLE-RADIUS=500;X-TITLE=Via Ugo Ojetti\, 66:geo:9.1111934,45.4958265
END:VEVENT
END:VCALENDAR