BEGIN:VCALENDAR
VERSION:2.0
PRODID:-//FNOMCeO - ECPv5.16.4//NONSGML v1.0//EN
CALSCALE:GREGORIAN
METHOD:PUBLISH
X-WR-CALNAME:FNOMCeO
X-ORIGINAL-URL:https://portale.fnomceo.it
X-WR-CALDESC:Eventi per FNOMCeO
BEGIN:VTIMEZONE
TZID:Europe/Rome
BEGIN:DAYLIGHT
TZOFFSETFROM:+0100
TZOFFSETTO:+0200
TZNAME:CEST
DTSTART:20250330T010000
END:DAYLIGHT
BEGIN:STANDARD
TZOFFSETFROM:+0200
TZOFFSETTO:+0100
TZNAME:CET
DTSTART:20251026T010000
END:STANDARD
END:VTIMEZONE
BEGIN:VEVENT
DTSTART;TZID=Europe/Rome:20250519T190000
DTEND;TZID=Europe/Rome:20250519T220000
DTSTAMP:20260424T050033
CREATED:20241024T110105Z
LAST-MODIFIED:20250129T125240Z
UID:80674-1747681200-1747692000@portale.fnomceo.it
SUMMARY:Milano\, “Cementi bioceramici pre-miscelati: ergonomia\, ritrattabilità ed outcome”
DESCRIPTION:“Cementi bioceramici pre-miscelati: ergonomia\, ritrattabilità ed outcome”\nMilano\, Sede ISI\n19 maggio 2025 \nL’evento si svolge nell’ambito del Programma culturale ISI 2025 “Attualità scientifiche in Odontostomatologia e Chirurgia Maxillofacciale”. La serata del 19 maggio si intitola “Cementi bioceramici pre-miscelati: ergonomia\, ritrattabilità ed outcome” e sarà curata dal Dott. F. Cardinali. La relazione si propone di offrire una riflessione clinico-scientifica per delineare il ruolo dei cementi bioceramici nell’endodonzia moderna\, analizzandone vantaggi e limiti. \n\nEvento patrocinato FNOMCeO.
URL:https://portale.fnomceo.it/eventi-fnomceo/milano-cementi-bioceramici-pre-miscelati-ergonomia-ritrattabilita-ed-outcome/
LOCATION:Milano\, Sede ISI\, Via Pace\, 21\, Milano\, Italia
CATEGORIES:Eventi patrocinati,Formazione e aggiornamento
ATTACH;FMTTYPE=image/jpeg:https://portale.fnomceo.it/wp-content/uploads/2024/10/ciclo-isi.jpg
GEO:45.4579419;9.2036222
X-APPLE-STRUCTURED-LOCATION;VALUE=URI;X-ADDRESS=Milano Sede ISI Via Pace 21 Milano Italia;X-APPLE-RADIUS=500;X-TITLE=Via Pace\, 21:geo:9.2036222,45.4579419
END:VEVENT
END:VCALENDAR