BEGIN:VCALENDAR
VERSION:2.0
PRODID:-//FNOMCeO - ECPv5.16.4//NONSGML v1.0//EN
CALSCALE:GREGORIAN
METHOD:PUBLISH
X-WR-CALNAME:FNOMCeO
X-ORIGINAL-URL:https://portale.fnomceo.it
X-WR-CALDESC:Eventi per FNOMCeO
BEGIN:VTIMEZONE
TZID:Europe/Rome
BEGIN:DAYLIGHT
TZOFFSETFROM:+0100
TZOFFSETTO:+0200
TZNAME:CEST
DTSTART:20190331T010000
END:DAYLIGHT
BEGIN:STANDARD
TZOFFSETFROM:+0200
TZOFFSETTO:+0100
TZNAME:CET
DTSTART:20191027T010000
END:STANDARD
END:VTIMEZONE
BEGIN:VEVENT
DTSTART;TZID=Europe/Rome:20190126T080000
DTEND;TZID=Europe/Rome:20190127T170000
DTSTAMP:20260424T092536
CREATED:20181011T093654Z
LAST-MODIFIED:20181011T093654Z
UID:36818-1548489600-1548608400@portale.fnomceo.it
SUMMARY:Milano\, Congresso SIA "Agopuntura e dolore"
DESCRIPTION:Il congresso illustrerà il ruolo dell’agopuntura nella gestione del dolore.\nTrenta relatori provenienti da tutto il mondo condivideranno la loro esperienza sull’impiego ospedaliero e ambulatoriale dell’agopuntura. \nTrial clinici ospedalieri condotti secondo l’EBM\, integrati dalle esperienze personali dei Maestri dell’agopuntura tradizionale.\nRisultati dell’associazione tra agopuntura ed altre tecniche correlate allo scopo di potenziare l’efficacia terapeutica. Domande e risposte tra relatori e pubblico residenziale ed in remoto da tutto il mondo\, in tempo reale. \n\nIl congresso si prefigge lo scopo di accrescere la conoscenza dell’agopuntura e delle sue applicazioni contro il dolore presso chi già la pratica; promuovere l’informazione sulle indicazioni di questa disciplina nella classe medica in generale e\, per suo tramite ai pazienti; sensibilizzare le istituzioni sanitarie affinché possano valutare l’utilità di inserire prestazioni di agopuntura a scopo antalgico nei servizi ospedalieri\, sulla base dei risultati conseguiti in centri ospedalieri nazionali ed internazionali. \nQuesti scopi saranno ottenuti grazie all’intervento di relatori internazionali\, che illustreranno i risultati di trial clinici condotti in rinomati ospedali\, all’analisi della letteratura scientifica\, con individuazione dei protocolli terapeutici più efficaci o promettenti.
URL:https://portale.fnomceo.it/eventi-fnomceo/milano-congresso-sia-agopuntura-e-dolore/
LOCATION:Palazzo Castiglioni – Sala Orlando\, Corso Venezia\, 47\, Milano\, Italia
CATEGORIES:Formazione e aggiornamento,Riunioni internazionali
GEO:45.4713341;9.2013183
X-APPLE-STRUCTURED-LOCATION;VALUE=URI;X-ADDRESS=Palazzo Castiglioni – Sala Orlando Corso Venezia 47 Milano Italia;X-APPLE-RADIUS=500;X-TITLE=Corso Venezia\, 47:geo:9.2013183,45.4713341
END:VEVENT
END:VCALENDAR