BEGIN:VCALENDAR
VERSION:2.0
PRODID:-//FNOMCeO - ECPv5.16.4//NONSGML v1.0//EN
CALSCALE:GREGORIAN
METHOD:PUBLISH
X-WR-CALNAME:FNOMCeO
X-ORIGINAL-URL:https://portale.fnomceo.it
X-WR-CALDESC:Eventi per FNOMCeO
BEGIN:VTIMEZONE
TZID:Europe/Rome
BEGIN:DAYLIGHT
TZOFFSETFROM:+0100
TZOFFSETTO:+0200
TZNAME:CEST
DTSTART:20190331T010000
END:DAYLIGHT
BEGIN:STANDARD
TZOFFSETFROM:+0200
TZOFFSETTO:+0100
TZNAME:CET
DTSTART:20191027T010000
END:STANDARD
END:VTIMEZONE
BEGIN:VEVENT
DTSTART;TZID=Europe/Rome:20191116T080000
DTEND;TZID=Europe/Rome:20191116T170000
DTSTAMP:20260423T223046
CREATED:20190531T150718Z
LAST-MODIFIED:20190531T152119Z
UID:42545-1573891200-1573923600@portale.fnomceo.it
SUMMARY:Milano\, Corso Triennale di Agopuntura – Primo Anno 2019-2020
DESCRIPTION:Il Corso di Agopuntura\, giunto alla sua 45a edizione\, ha durata triennale ed è riservato ai Medici chirurghi e ai Medici odontoiatri. \nIl primo anno si svolge da Novembre a Giugno\, i successivi da Ottobre a Giugno. La formazione frontale e le esercitazioni cliniche fanno ricorso a lezioni d’aula e a Formazione a Distanza (e-learning su piattaforma dedicata\, certificata secondo gli standard internazionali SCORM). Le lezioni teorico/pratiche residenziali sono impartite durante i fine settimana. Le lezioni\, i test e le esercitazioni in FAD possono essere seguiti da qualunque postazione internet e ripetute a piacere. L’e-learning del Centro Studi è stato concepito per usufruire al meglio delle lezioni d’aula e del rapporto diretto docente/discente\, in quanto tutti gli argomenti trattati in FAD vengono ripresi\, commentati ed approfonditi con i docenti nelle lezioni residenziali. La pratica clinica\, effettuata nel Centro Medico So Wen  sotto la supervisione di docenti certificati dal Centro Collaborante O.M.S. di Milano\, costituisce uno dei punti distintivi dei corsi del Centro Studi So Wen. Dall’A.A. 2018-19 verranno erogate 30 ore all’anno di discussione di casi clinici on-line\, fruibili da qualunque luogo\, mediante collegamento internet a mezzo tablet\, PC o smartphone  I collegamenti si effettueranno infrasettimanalmente dalle ore 20\,30 alle ore 22\,30. \nFinalità\nL’integrazione dell’agopuntura e della medicina tradizionale cinese nella pratica del Medico di medicina occidentale\, facendo ricorso ad un’esperienza clinica di oltre 2500 anni. Per comprendere e sfruttare al meglio tutta la ricchezza del pensiero medico cinese e le ampie possibilità della sua applicazione\, anche ai nostri giorni\, nelle moderne società occidentali\, il corso dedica ampio spazio alle origini e allo sviluppo del concetto di salute e di malattia\, alla fisiologia ed alla patologia tradizionali cinesi\, fornendo esaurienti informazioni di fitoterapia\, dietetica e massaggio cinesi. Una costante attenzione viene dedicata all’integrazione dell’agopuntura e della medicina cinese in seno alla pratica della medicina occidentale\, mediante un’analisi aggiornata della letteratura internazionale e dei risultati dei protocolli di studio condotti dal Centro Studi So Wen. \nModalità didattiche\nLezioni teoriche in aula con supporti audiovisivi informatici\, esercitazioni pratiche e discussione di casi clinici in gruppo ed on-line. Formazione a distanza (e-learning) frequentabile mediante collegamento ad internet\, 24 ore al giorno\, durante il periodo di erogazione. Le lezioni FAD sono ripetibili un numero illimitato di volte e possono essere interrotte e riprese a piacimento\, secondo le scelte e la comodità del discente. Test di autovalutazione al termine di ogni lezione. L’interattività docente/studente e studente/studente è garantita da mailing list\, chat e teleconferenze. Pratica clinica sul paziente in piccoli gruppi assistiti da docenti e tutor. Materiale didattico fornito su CD. Ogni anno il programma viene integrato in base alle risultanze dei questionari di gradimento inerenti: argomenti trattati\, chiarezza/ricchezza espositiva dei docenti\, materiale didattico d’aula e di supporto\, qualità delle esercitazioni pratiche. La piattaforma di e-learning del Centro Studi So Wen permette il tracciamento e la certificazione del percorso formativo\, come richiesto da vari Ordini dei Medici. Dalla loro introduzione\, avvenuta nel 2010\, ad oggi le lezioni FAD hanno ottenuto un voto medio di 8\,9 su 10 da parte dei frequentatori. Ogni ora di lezione è stata ripetuta\, in media\, 4\,3 volte. \n  \nModalità d’iscrizione\nMediante Moduli di Iscrizione scaricabili. \nPresentazione domande d’iscrizione\nI Anno: entro il 15.11.2018\nII – III Anno: entro il 30.09.2018 \n  \nModalità di ritiro\nLa volontà di ritirarsi dal corso dovrà essere comunicata dall’iscritto mediante lettera raccomandata a. r. indirizzata a So Wen S r l – via Marostica\, 38 – 20146 Milano. \nPer domande pervenute preventivamente alla data di svolgimento della seconda lezione di corso\, verrà rimborsato l’intero importo versato. \nEsami\nSi svolgono davanti ad una commissione esaminatrice costituita da docenti del Centro Studi So Wen. Gli Studenti che abbiano frequentato almeno l’80% delle lezioni teoriche e delle esercitazioni cliniche\, avendo totalizzato il monte ore minimo di esercitazioni pratiche\, potranno accedere agli esami di merito annuali\, che si terranno nelle sessioni estiva (fine Giugno) ed autunnale (fine Settembre). I candidati che non abbiano superato l’esame nella sessione estiva potranno sostenerlo nuovamente nella sessione autunnale. Al termine del III Anno di corso\, il candidato dovrà sostenere una prova pratica consistente nell’esame di un paziente\, redazione di una cartella clinica ed istituzione della relativa terapia. Il corso si concluderà con la discussione di una tesi finale. \nTesi \nAl termine del corso il candidato dovrà presentare e discutere una tesi sperimentale o compilativa\, inerente argomenti di agopuntura e medicina cinese. Per la sua elaborazione il candidato potrà avvalersi della biblioteca del Centro Studi e sarà assistito da un Relatore. La tesi di fine corso verrà discussa con una commissione esaminatrice\, alla presenza di un rappresentante del locale Ordine dei Medici chirurghi e degli Odontoiatri nella sessione autunnale di esame. \nAttestato\nChi abbia superato gli esami di merito annuali\, la prova pratica del III anno e discusso con esito favorevole la tesi finale otterrà un Attestato valido ai sensi dell’Accordo 54 della Conferenza Stato Regioni  del  7 febbraio 2013. Tale titolo sarà equipollente a quelli rilasciati dai Master universitari di II livello ai fini dell’iscrizione negli Elenchi dei professionisti esercenti l’Agopuntura  istituiti dagli Ordini professionali provinciali dei medici chirurghi e degli odontoiatri. \nE.C.M.\nNell’A.A. 2017-18 ogni anno di corso ha attribuito 25 Crediti ECM. Analoga domanda verrà presentata per l’A.A. 2018-19. N.B. Ogni professionista è tenuto a totalizzare almeno il 50% dei Crediti E.C.M. all’interno del proprio settore di attività/specialità. Una percentuale superiore al 50% dei Crediti ECM dedicata alla formazione in Agopuntura renderebbe tali crediti inutilizzabili. \nCrediti Formativi\nIl corso attribuisce 40 Crediti Formativi valutati secondo i parametri ECTS (European Credit Transfer and Accumulation System). \nOrari delle lezioni\n09\,00 -13\,00 e 14.00 – 18\,00 \nPresentazioni del corso\nSi svolgono presso la sede del Centro Studi So Wen in via Marostica\, 38 Milano (portone a vetri tra i numeri civici 38 e 40). La data della prossima presentazione del corso è consultabile sul sito al collegamento Open Days. Le presentazioni sono gratuite previa iscrizione.
URL:https://portale.fnomceo.it/eventi-fnomceo/milano-corso-triennale-di-agopuntura-primo-anno-2019-2020/
LOCATION:Centro Studi So-Wen\, via Marostica\, 38\, Milano\, 20146\, Italia
CATEGORIES:Formazione e aggiornamento
ORGANIZER;CN="Centro%20Studi%20So-Wen":MAILTO:info@sowen.it
GEO:45.4614769;9.1423766
X-APPLE-STRUCTURED-LOCATION;VALUE=URI;X-ADDRESS=Centro Studi So-Wen via Marostica 38 Milano 20146 Italia;X-APPLE-RADIUS=500;X-TITLE=via Marostica\, 38:geo:9.1423766,45.4614769
END:VEVENT
END:VCALENDAR