BEGIN:VCALENDAR
VERSION:2.0
PRODID:-//FNOMCeO - ECPv5.16.4//NONSGML v1.0//EN
CALSCALE:GREGORIAN
METHOD:PUBLISH
X-WR-CALNAME:FNOMCeO
X-ORIGINAL-URL:https://portale.fnomceo.it
X-WR-CALDESC:Eventi per FNOMCeO
BEGIN:VTIMEZONE
TZID:Europe/Rome
BEGIN:DAYLIGHT
TZOFFSETFROM:+0100
TZOFFSETTO:+0200
TZNAME:CEST
DTSTART:20190331T010000
END:DAYLIGHT
BEGIN:STANDARD
TZOFFSETFROM:+0200
TZOFFSETTO:+0100
TZNAME:CET
DTSTART:20191027T010000
END:STANDARD
END:VTIMEZONE
BEGIN:VEVENT
DTSTART;TZID=Europe/Rome:20191214T080000
DTEND;TZID=Europe/Rome:20191214T170000
DTSTAMP:20260419T235846
CREATED:20191110T143711Z
LAST-MODIFIED:20191113T144445Z
UID:46723-1576310400-1576342800@portale.fnomceo.it
SUMMARY:Milano\, III Corso residenziale di adolescentologia
DESCRIPTION:
URL:https://portale.fnomceo.it/eventi-fnomceo/milano-iii-corso-residenziale-di-adolescentologia/
LOCATION:Milano\, Hotel NH Milano 2 Residence\, Via Fratelli Cervi\, Segrate\, Milano\, 20090\, Italia
CATEGORIES:Formazione e aggiornamento
GEO:45.495602;9.2630316
X-APPLE-STRUCTURED-LOCATION;VALUE=URI;X-ADDRESS=Milano Hotel NH Milano 2 Residence Via Fratelli Cervi Segrate Milano 20090 Italia;X-APPLE-RADIUS=500;X-TITLE=Via Fratelli Cervi:geo:9.2630316,45.495602
END:VEVENT
END:VCALENDAR