BEGIN:VCALENDAR
VERSION:2.0
PRODID:-//FNOMCeO - ECPv5.16.4//NONSGML v1.0//EN
CALSCALE:GREGORIAN
METHOD:PUBLISH
X-WR-CALNAME:FNOMCeO
X-ORIGINAL-URL:https://portale.fnomceo.it
X-WR-CALDESC:Eventi per FNOMCeO
BEGIN:VTIMEZONE
TZID:Europe/Rome
BEGIN:DAYLIGHT
TZOFFSETFROM:+0100
TZOFFSETTO:+0200
TZNAME:CEST
DTSTART:20190331T010000
END:DAYLIGHT
BEGIN:STANDARD
TZOFFSETFROM:+0200
TZOFFSETTO:+0100
TZNAME:CET
DTSTART:20191027T010000
END:STANDARD
END:VTIMEZONE
BEGIN:VEVENT
DTSTART;TZID=Europe/Rome:20190921T080000
DTEND;TZID=Europe/Rome:20190922T170000
DTSTAMP:20260423T123454
CREATED:20190529T133918Z
LAST-MODIFIED:20190704T170356Z
UID:42168-1569052800-1569171600@portale.fnomceo.it
SUMMARY:Milano\, “L’agopuntura e la medicina integrata nella cura dei malati con patologie croniche. Quale ruolo nelle reti cliniche assistenziali?”
DESCRIPTION:  \nL’ Agopuntura e la Medicina Integrata nella cura dei malati con patologie croniche. Quale ruolo nelle reti cliniche assistenziali? \nL’obiettivo del congresso è fare il punto sull’attuale stato delle metodiche di medicina integrata ed in particolare di agopuntura all’interno delle strutture e degli ambulatori del SSN-Sistema Sanitario Nazionale\, per il trattamento delle patologie croniche e del dolore ad esse correlato. I relatori nazionali e internazionali sono i più noti medici agopuntori e specialisti nelle diverse aree della medicina Occidentale. Saranno discussi i metodi e le vie di comunicazione per rendere più semplice ai pazienti l’accesso agli ambulatori di medicina complementare e si illustrerà il censimento\, ancorché parziale\, che FISA – Federazione Italiana delle Società di Agopuntura\, sta redigendo su richiesta del SSN di tali ambulatori sul territorio Nazionale. Saranno presentate anche realtà ospedaliere Milanesi\, Regionali\, Nazionali ed Estere oltre che alle casistiche nazionali e internazionali circa l’utilizzo e l’efficacia dell’agopuntura nelle diverse patologie croniche in modo che i pazienti possano comprendere per quali patologie è utile sottoporsi a medicina complementare. \nLa partecipazione è gratuita previa iscrizione al seguente link http://www.agopuntura-alma.it/iscrizione-al-congresso-2019/
URL:https://portale.fnomceo.it/eventi-fnomceo/milano-lagopuntura-e-la-medicina-integrata-nella-cura-dei-malati-con-patologie-croniche-quale-ruolo-nelle-reti-cliniche-assistenziali/
LOCATION:Università degli Studi di Milano\, Via Festa del Perdono 7\, Milano\, Italia
CATEGORIES:Formazione e aggiornamento
GEO:45.460342;9.1941298
X-APPLE-STRUCTURED-LOCATION;VALUE=URI;X-ADDRESS=Università degli Studi di Milano Via Festa del Perdono 7 Milano Italia;X-APPLE-RADIUS=500;X-TITLE=Via Festa del Perdono 7:geo:9.1941298,45.460342
END:VEVENT
END:VCALENDAR