BEGIN:VCALENDAR
VERSION:2.0
PRODID:-//FNOMCeO - ECPv5.16.4//NONSGML v1.0//EN
CALSCALE:GREGORIAN
METHOD:PUBLISH
X-WR-CALNAME:FNOMCeO
X-ORIGINAL-URL:https://portale.fnomceo.it
X-WR-CALDESC:Eventi per FNOMCeO
BEGIN:VTIMEZONE
TZID:Europe/Rome
BEGIN:DAYLIGHT
TZOFFSETFROM:+0100
TZOFFSETTO:+0200
TZNAME:CEST
DTSTART:20200329T010000
END:DAYLIGHT
BEGIN:STANDARD
TZOFFSETFROM:+0200
TZOFFSETTO:+0100
TZNAME:CET
DTSTART:20201025T010000
END:STANDARD
END:VTIMEZONE
BEGIN:VEVENT
DTSTART;TZID=Europe/Rome:20200402T090000
DTEND;TZID=Europe/Rome:20200403T180000
DTSTAMP:20260423T093942
CREATED:20200221T152954Z
LAST-MODIFIED:20200221T152954Z
UID:48699-1585818000-1585936800@portale.fnomceo.it
SUMMARY:Milano\, “Nutrimi 2020 – XIV Forum di Nutrizione pratica”
DESCRIPTION:
URL:https://portale.fnomceo.it/eventi-fnomceo/milano-nutrimi-2020-xiv-forum-di-nutrizione-pratica/
LOCATION:Milano\, Centro Congressi Stelline\, corso Magenta\, 61\, Milano\, 20123\, Italia
CATEGORIES:Formazione e aggiornamento
GEO:45.4654322;9.1719506
X-APPLE-STRUCTURED-LOCATION;VALUE=URI;X-ADDRESS=Milano Centro Congressi Stelline corso Magenta 61 Milano 20123 Italia;X-APPLE-RADIUS=500;X-TITLE=corso Magenta\, 61:geo:9.1719506,45.4654322
END:VEVENT
END:VCALENDAR