BEGIN:VCALENDAR
VERSION:2.0
PRODID:-//FNOMCeO - ECPv5.16.4//NONSGML v1.0//EN
CALSCALE:GREGORIAN
METHOD:PUBLISH
X-WR-CALNAME:FNOMCeO
X-ORIGINAL-URL:https://portale.fnomceo.it
X-WR-CALDESC:Eventi per FNOMCeO
BEGIN:VTIMEZONE
TZID:Europe/Rome
BEGIN:DAYLIGHT
TZOFFSETFROM:+0100
TZOFFSETTO:+0200
TZNAME:CEST
DTSTART:20250330T010000
END:DAYLIGHT
BEGIN:STANDARD
TZOFFSETFROM:+0200
TZOFFSETTO:+0100
TZNAME:CET
DTSTART:20251026T010000
END:STANDARD
END:VTIMEZONE
BEGIN:VEVENT
DTSTART;TZID=Europe/Rome:20250217T190000
DTEND;TZID=Europe/Rome:20250217T220000
DTSTAMP:20260423T083602
CREATED:20241024T101755Z
LAST-MODIFIED:20250129T125131Z
UID:80660-1739818800-1739829600@portale.fnomceo.it
SUMMARY:Milano\, "Riabilitazioni semplici e complesse biologicamente guidate"
DESCRIPTION:“Riabilitazioni semplici e complesse biologicamente guidate”\nMilano\, Sede ISI\n17 febbraio 2025  \nL’evento si svolge nell’ambito del Programma culturale ISI 2025 “Attualità scientifiche in Odontostomatologia e Chirurgia Maxillofacciale”. La prima serata scientifica si intitola “Riabilitazioni semplici e complesse biologicamente guidate” e sarà curata dal Dott. G. Folegatti e dal Dott. S. Zandonella Necca. I relatori presenteranno un orientamento operativo atto a sfruttare al meglio i meccanismi e i tempi biologici dei processi riparativi e rigenerativi dei tessuti intraorali.\n \n\nEvento patrocinato FNOMCeO
URL:https://portale.fnomceo.it/eventi-fnomceo/milano-riabilitazioni-semplici-e-complesse-biologicamente-guidate/
LOCATION:Milano\, Sede ISI\, Via Pace\, 21\, Milano\, Italia
CATEGORIES:Eventi patrocinati,Formazione e aggiornamento
ATTACH;FMTTYPE=image/jpeg:https://portale.fnomceo.it/wp-content/uploads/2024/10/ciclo-isi.jpg
GEO:45.4579419;9.2036222
X-APPLE-STRUCTURED-LOCATION;VALUE=URI;X-ADDRESS=Milano Sede ISI Via Pace 21 Milano Italia;X-APPLE-RADIUS=500;X-TITLE=Via Pace\, 21:geo:9.2036222,45.4579419
END:VEVENT
END:VCALENDAR