BEGIN:VCALENDAR
VERSION:2.0
PRODID:-//FNOMCeO - ECPv5.16.4//NONSGML v1.0//EN
CALSCALE:GREGORIAN
METHOD:PUBLISH
X-WR-CALNAME:FNOMCeO
X-ORIGINAL-URL:https://portale.fnomceo.it
X-WR-CALDESC:Eventi per FNOMCeO
BEGIN:VTIMEZONE
TZID:Europe/Rome
BEGIN:DAYLIGHT
TZOFFSETFROM:+0100
TZOFFSETTO:+0200
TZNAME:CEST
DTSTART:20200329T010000
END:DAYLIGHT
BEGIN:STANDARD
TZOFFSETFROM:+0200
TZOFFSETTO:+0100
TZNAME:CET
DTSTART:20201025T010000
END:STANDARD
END:VTIMEZONE
BEGIN:VEVENT
DTSTART;TZID=Europe/Rome:20200403T083000
DTEND;TZID=Europe/Rome:20200404T190000
DTSTAMP:20260423T080831
CREATED:20200212T094124Z
LAST-MODIFIED:20200212T094124Z
UID:48397-1585902600-1586026800@portale.fnomceo.it
SUMMARY:Milano\, “SGLT-inibitori: dalla fisiopatologia alla clinica. Prospettive future”
DESCRIPTION:Il congresso è gratuito e a numero chiuso con iscrizione obbligatoria.\nPer iscriversi compilare e inviare l’apposita scheda allegata entro e non oltre il 30 Marzo 2020.
URL:https://portale.fnomceo.it/eventi-fnomceo/milano-sglt-inibitori-dalla-fisiopatologia-alla-clinica-prospettive-future/
LOCATION:Milano\, Auditorium Giovanni Testori\, Piazza Città di Lombardia\, 1\, Milano\, 20124\, Italia
CATEGORIES:Formazione e aggiornamento
GEO:45.4867405;9.196255
X-APPLE-STRUCTURED-LOCATION;VALUE=URI;X-ADDRESS=Milano Auditorium Giovanni Testori Piazza Città di Lombardia 1 Milano 20124 Italia;X-APPLE-RADIUS=500;X-TITLE=Piazza Città di Lombardia\, 1:geo:9.196255,45.4867405
END:VEVENT
END:VCALENDAR