BEGIN:VCALENDAR
VERSION:2.0
PRODID:-//FNOMCeO - ECPv5.16.4//NONSGML v1.0//EN
CALSCALE:GREGORIAN
METHOD:PUBLISH
X-WR-CALNAME:FNOMCeO
X-ORIGINAL-URL:https://portale.fnomceo.it
X-WR-CALDESC:Eventi per FNOMCeO
BEGIN:VTIMEZONE
TZID:Europe/Rome
BEGIN:DAYLIGHT
TZOFFSETFROM:+0100
TZOFFSETTO:+0200
TZNAME:CEST
DTSTART:20210328T010000
END:DAYLIGHT
BEGIN:STANDARD
TZOFFSETFROM:+0200
TZOFFSETTO:+0100
TZNAME:CET
DTSTART:20211031T010000
END:STANDARD
END:VTIMEZONE
BEGIN:VEVENT
DTSTART;TZID=Europe/Rome:20210201T080000
DTEND;TZID=Europe/Rome:20210201T170000
DTSTAMP:20260422T211802
CREATED:20201016T144325Z
LAST-MODIFIED:20210318T104146Z
UID:54001-1612166400-1612198800@portale.fnomceo.it
SUMMARY:Milano/videoconferenza\, “Special Edition degli AboutPharma Digital Awards – Anno 2020”
DESCRIPTION:
URL:https://portale.fnomceo.it/eventi-fnomceo/milano-videoconferenza-special-edition-degli-aboutpharma-digital-awards-anno-2020/
LOCATION:Web\, Italia
GEO:41.87194;12.56738
END:VEVENT
END:VCALENDAR