BEGIN:VCALENDAR
VERSION:2.0
PRODID:-//FNOMCeO - ECPv5.16.4//NONSGML v1.0//EN
CALSCALE:GREGORIAN
METHOD:PUBLISH
X-WR-CALNAME:FNOMCeO
X-ORIGINAL-URL:https://portale.fnomceo.it
X-WR-CALDESC:Eventi per FNOMCeO
BEGIN:VTIMEZONE
TZID:Europe/Rome
BEGIN:DAYLIGHT
TZOFFSETFROM:+0100
TZOFFSETTO:+0200
TZNAME:CEST
DTSTART:20230326T010000
END:DAYLIGHT
BEGIN:STANDARD
TZOFFSETFROM:+0200
TZOFFSETTO:+0100
TZNAME:CET
DTSTART:20231029T010000
END:STANDARD
END:VTIMEZONE
BEGIN:VEVENT
DTSTART;TZID=Europe/Rome:20230926T113000
DTEND;TZID=Europe/Rome:20230928T173000
DTSTAMP:20260424T143918
CREATED:20230531T091436Z
LAST-MODIFIED:20230531T091448Z
UID:71745-1695727800-1695922200@portale.fnomceo.it
SUMMARY:Modalità virtuale\, VII Congresso Nazionale Fondazione Onda “L’impatto delle diseguaglianze di genere sulla salute e nella ricerca scientifica”
DESCRIPTION:VII Congresso Nazionale Fondazione Onda “L’impatto delle diseguaglianze di genere sulla salute e nella ricerca scientifica”\nModalità virtuale\n26 – 28 settembre 2023 \nIl Congresso nazionale 2023 di Fondazione Onda\, giunto alla settima edizione\, sarà dedicato\nall’impatto delle diseguaglianze di genere sulla salute e nella ricerca scientifica. \n\nEvento organizzato con patrocinio FNOMCeO
URL:https://portale.fnomceo.it/eventi-fnomceo/modalita-virtuale-vii-congresso-nazionale-fondazione-onda-limpatto-delle-diseguaglianze-di-genere-sulla-salute-e-nella-ricerca-scientifica/
LOCATION:Web\, Italia
CATEGORIES:Formazione e aggiornamento,Medicina di Genere
GEO:41.87194;12.56738
END:VEVENT
END:VCALENDAR