BEGIN:VCALENDAR
VERSION:2.0
PRODID:-//FNOMCeO - ECPv5.16.4//NONSGML v1.0//EN
CALSCALE:GREGORIAN
METHOD:PUBLISH
X-WR-CALNAME:FNOMCeO
X-ORIGINAL-URL:https://portale.fnomceo.it
X-WR-CALDESC:Eventi per FNOMCeO
BEGIN:VTIMEZONE
TZID:Europe/Rome
BEGIN:DAYLIGHT
TZOFFSETFROM:+0100
TZOFFSETTO:+0200
TZNAME:CEST
DTSTART:20200329T010000
END:DAYLIGHT
BEGIN:STANDARD
TZOFFSETFROM:+0200
TZOFFSETTO:+0100
TZNAME:CET
DTSTART:20201025T010000
END:STANDARD
END:VTIMEZONE
BEGIN:VEVENT
DTSTART;TZID=Europe/Rome:20200403T080000
DTEND;TZID=Europe/Rome:20200404T170000
DTSTAMP:20260423T094138
CREATED:20200415T100456Z
LAST-MODIFIED:20200415T100456Z
UID:50428-1585900800-1586019600@portale.fnomceo.it
SUMMARY:Modena\, XI Convegno Nazionale Ortodonzia\, Legge e Medicina Legale “Allineatori in Terapia Ortodontica: Vantaggi e Svantaggi”
DESCRIPTION:**Evento rinviato a data da destinarsi** \nIl tema di questa edizione è  un argomento che sta appassionando tutti gli specialisti: l’utilizzo degli Allineatori in Ortognatodonzia\, che procede con costanza a ridurre l’uso dei dispositivi metallici in terapia fissa tradizionale vestibolare. \nQuesta nuova e consolidata  metodologia di lavoro  coniuga esigenze di biomeccanica ortodontica a mobilità ed estetica in terapia\, non solo dell’adulto. \nLe due giornate di lavoro nella presentazione del convegno dal titolo “Allineatori in terapia Ortodontica: Vantaggi e Svantaggi”  vogliono essere un momento di approfondimento\, sulle reali capacità che i vari tipi di allineatori\, dette usualmente mascherine\, possono avere dopo una attenta diagnosi ed un piano terapeutico per il trattamento delle malocclusioni.
URL:https://portale.fnomceo.it/eventi-fnomceo/modena-xi-convegno-nazionale-ortodonzia-legge-e-medicina-legale-allineatori-in-terapia-ortodontica-vantaggi-e-svantaggi/
LOCATION:Modena\, RMH Modena Des Arts\, Via Luigi Settembrini\, 10\, Modena\, Italia
CATEGORIES:Formazione e aggiornamento
GEO:44.6065026;10.8675548
X-APPLE-STRUCTURED-LOCATION;VALUE=URI;X-ADDRESS=Modena RMH Modena Des Arts Via Luigi Settembrini 10 Modena Italia;X-APPLE-RADIUS=500;X-TITLE=Via Luigi Settembrini\, 10:geo:10.8675548,44.6065026
END:VEVENT
END:VCALENDAR