BEGIN:VCALENDAR
VERSION:2.0
PRODID:-//FNOMCeO - ECPv5.16.4//NONSGML v1.0//EN
CALSCALE:GREGORIAN
METHOD:PUBLISH
X-WR-CALNAME:FNOMCeO
X-ORIGINAL-URL:https://portale.fnomceo.it
X-WR-CALDESC:Eventi per FNOMCeO
BEGIN:VTIMEZONE
TZID:Europe/Rome
BEGIN:DAYLIGHT
TZOFFSETFROM:+0100
TZOFFSETTO:+0200
TZNAME:CEST
DTSTART:20210328T010000
END:DAYLIGHT
BEGIN:STANDARD
TZOFFSETFROM:+0200
TZOFFSETTO:+0100
TZNAME:CET
DTSTART:20211031T010000
END:STANDARD
END:VTIMEZONE
BEGIN:VEVENT
DTSTART;TZID=Europe/Rome:20211024T140000
DTEND;TZID=Europe/Rome:20211026T180000
DTSTAMP:20260420T003620
CREATED:20210917T084759Z
LAST-MODIFIED:20210917T084759Z
UID:61046-1635084000-1635271200@portale.fnomceo.it
SUMMARY:Napoli\, 9° Congresso Nazionale della Società Italiana di Chirurgia Colorettale”\,
DESCRIPTION:CREDITI ECM: Il Congresso assegna n. 11\,2 crediti formativi ECM per la partecipazione in presenza
URL:https://portale.fnomceo.it/eventi-fnomceo/napoli-9-congresso-nazionale-della-societa-italiana-di-chirurgia-colorettale/
LOCATION:Napoli\, Hotel Royal Continental\, Via Partenope\, 38\, Napoli\, 80121\, Italia
CATEGORIES:Formazione e aggiornamento
GEO:40.8301483;14.2470169
X-APPLE-STRUCTURED-LOCATION;VALUE=URI;X-ADDRESS=Napoli Hotel Royal Continental Via Partenope 38 Napoli 80121 Italia;X-APPLE-RADIUS=500;X-TITLE=Via Partenope\, 38:geo:14.2470169,40.8301483
END:VEVENT
END:VCALENDAR