BEGIN:VCALENDAR
VERSION:2.0
PRODID:-//FNOMCeO - ECPv5.16.4//NONSGML v1.0//EN
CALSCALE:GREGORIAN
METHOD:PUBLISH
X-WR-CALNAME:FNOMCeO
X-ORIGINAL-URL:https://portale.fnomceo.it
X-WR-CALDESC:Eventi per FNOMCeO
BEGIN:VTIMEZONE
TZID:Europe/Rome
BEGIN:DAYLIGHT
TZOFFSETFROM:+0100
TZOFFSETTO:+0200
TZNAME:CEST
DTSTART:20200329T010000
END:DAYLIGHT
BEGIN:STANDARD
TZOFFSETFROM:+0200
TZOFFSETTO:+0100
TZNAME:CET
DTSTART:20201025T010000
END:STANDARD
END:VTIMEZONE
BEGIN:VEVENT
DTSTART;TZID=Europe/Rome:20200222T090000
DTEND;TZID=Europe/Rome:20200222T190000
DTSTAMP:20260421T101330
CREATED:20191126T103025Z
LAST-MODIFIED:20191126T103025Z
UID:47056-1582362000-1582398000@portale.fnomceo.it
SUMMARY:Napoli\, “Scompenso cardiaco avanzato e shock\, assistenza meccanica cardiocircolatoria e trapianti di cuore in adulti: la Campania\, il Sud”
DESCRIPTION:La fase acuta dell’insufficienza cardiaca che si complica con bassa portata non responsiva ai farmaci rappresenta una criticità di assoluta rilevanza clinica ed assistenziale. Un recente documento di consenso multi societario sollecita l’organizzazione di una rete per lo shock cardiogeno. Tuttavia\, anche pazienti ambulatoriali sintomatici con storia di ricorrenti ospedalizzazioni\, severa disfunzione ventricolare\, e con iniziali segni di disfunzione multi-organo\, richiedono attenzione clinica\, organizzazione assistenziale e pianificazione chiara ed appropriata\, visto l’impegno di spesa rilevante\, al fine di preservare clinicamente l’integrità psicofisica del paziente in attesa di decisione. Sullo sfondo\, il trapianto di cuore\, a cui si arriva sempre più in condizioni di emergenza per la cronica carenza di organi.\nIl tema dell’assistenza meccanica di circolo e ventricolare nel breve termine resta un elemento cruciale\, dunque\, sia per la rete dello shock che nel percorso trapiantologico cardiaco. All’opposto\, l’invecchiamento della popolazione e le comorbidità prevalenti fanno crescere la percentuale di pazienti che non possono beneficiarsi di trapianto di cuore\, ma possono richiedere assistenza ventricolare a lungo termine o di destinazione: senza una rete efficiente di affidamento dei casi\, i pazienti possono arrivare tardi anche a questa terapia complessa\, e finanziariamente impegnativa. Tuttavia\, è doveroso dare ai pazienti opportunità terapeutiche congrue con i tempi correnti\, anche per contrastare la migrazione sanitaria.\nI temi della immunomodulazione farmacologica e non\, la sorveglianza oncologica ed infettivologica specifiche\, assumono un ruolo crescente non più nella fase post trapianto\, ma anche nella fase propedeutica ad essa.
URL:https://portale.fnomceo.it/eventi-fnomceo/napoli-scompenso-cardiaco-avanzato-e-shock-assistenza-meccanica-cardiocircolatoria-e-trapianti-di-cuore-in-adulti-la-campania-il-sud/
LOCATION:Napoli\, Hotel Royal Continental\, Via Partenope\, 38\, Napoli\, 80121\, Italia
CATEGORIES:Formazione e aggiornamento
GEO:40.8301483;14.2470169
X-APPLE-STRUCTURED-LOCATION;VALUE=URI;X-ADDRESS=Napoli Hotel Royal Continental Via Partenope 38 Napoli 80121 Italia;X-APPLE-RADIUS=500;X-TITLE=Via Partenope\, 38:geo:14.2470169,40.8301483
END:VEVENT
END:VCALENDAR