BEGIN:VCALENDAR
VERSION:2.0
PRODID:-//FNOMCeO - ECPv5.16.4//NONSGML v1.0//EN
CALSCALE:GREGORIAN
METHOD:PUBLISH
X-WR-CALNAME:FNOMCeO
X-ORIGINAL-URL:https://portale.fnomceo.it
X-WR-CALDESC:Eventi per FNOMCeO
BEGIN:VTIMEZONE
TZID:Europe/Rome
BEGIN:DAYLIGHT
TZOFFSETFROM:+0100
TZOFFSETTO:+0200
TZNAME:CEST
DTSTART:20230326T010000
END:DAYLIGHT
BEGIN:STANDARD
TZOFFSETFROM:+0200
TZOFFSETTO:+0100
TZNAME:CET
DTSTART:20231029T010000
END:STANDARD
END:VTIMEZONE
BEGIN:VEVENT
DTSTART;TZID=Europe/Rome:20230930T093000
DTEND;TZID=Europe/Rome:20230930T153000
DTSTAMP:20260424T175730
CREATED:20230627T152942Z
LAST-MODIFIED:20230627T152942Z
UID:72185-1696066200-1696087800@portale.fnomceo.it
SUMMARY:Narni (TR)\, “La psicologia dell’emergenza in Protezione Civile: interventi integrati”
DESCRIPTION:“La psicologia dell’emergenza in Protezione Civile: interventi integrati”\nNarni\, Aula Magna dell’Università di Narni\n30 settembre 2023 \n  \nObiettivi del convegno sono la sensibilizzazione dei volontari alla psicologia dell’emergenza come area integrata nella Protezione Civile e il portare all’attenzione delle Autorità l’importanza di interventi integrati che coinvolgono non solamente gli aspetti strutturali delle emergenze ma anche i fattori umani e psicologici della popolazione coinvolta e degli stessi volontari. \n\nEvento organizzato con patrocinio FNOMCeO
URL:https://portale.fnomceo.it/eventi-fnomceo/narni-tr-la-psicologia-dellemergenza-in-protezione-civile-interventi-integrati/
LOCATION:Narni\, Sede di Narni UNIPG – Palazzo Sacripanti\, Piazza Marzio Galeotto\, 9\, Narni\, Terni\, 05035\, Italia
CATEGORIES:Formazione e aggiornamento
GEO:42.521983;12.5141634
X-APPLE-STRUCTURED-LOCATION;VALUE=URI;X-ADDRESS=Narni Sede di Narni UNIPG – Palazzo Sacripanti Piazza Marzio Galeotto 9 Narni Terni 05035 Italia;X-APPLE-RADIUS=500;X-TITLE=Piazza Marzio Galeotto\, 9:geo:12.5141634,42.521983
END:VEVENT
END:VCALENDAR