BEGIN:VCALENDAR
VERSION:2.0
PRODID:-//FNOMCeO - ECPv5.16.4//NONSGML v1.0//EN
CALSCALE:GREGORIAN
METHOD:PUBLISH
X-WR-CALNAME:FNOMCeO
X-ORIGINAL-URL:https://portale.fnomceo.it
X-WR-CALDESC:Eventi per FNOMCeO
BEGIN:VTIMEZONE
TZID:Europe/Rome
BEGIN:DAYLIGHT
TZOFFSETFROM:+0100
TZOFFSETTO:+0200
TZNAME:CEST
DTSTART:20180325T010000
END:DAYLIGHT
BEGIN:STANDARD
TZOFFSETFROM:+0200
TZOFFSETTO:+0100
TZNAME:CET
DTSTART:20181028T010000
END:STANDARD
END:VTIMEZONE
BEGIN:VEVENT
DTSTART;VALUE=DATE:20180922
DTEND;VALUE=DATE:20180923
DTSTAMP:20260425T230709
CREATED:20180723T144306Z
LAST-MODIFIED:20180723T144306Z
UID:35113-1537574400-1537660799@portale.fnomceo.it
SUMMARY:Norme in materia di consenso informato e di disposizioni anticipate di trattamento - Legge n.219 del 22 dicembre 2017
DESCRIPTION:Il convegno si propone di affrontare il tema delle Disposizioni Anticipate di Trattamento (DAT): Legge 22 dicembre 2017\, n. 219 “Norme in materia di consenso informato e di disposizioni anticipate di trattamento” che regolamenta le decisioni di fine vita in un determinato contesto. La legge verrà esaminata e approfondita mediante interventi di medici specialisti che per propria formazione e per tipologia di lavoro si occupano più frequentemente di tali problematiche\, con l’obiettivo di fornire ai medici informazioni tecniche sulle modalità operative di compilazione e deposito delle DAT\, il ruolo del medico all’interno della Legge\, il consenso informato e le diverse pratiche e terminologie: cure palliative\, interruzione delle cure\, cure di fine vita\, sedazione palliativa profonda.
URL:https://portale.fnomceo.it/eventi-fnomceo/norme-in-materia-di-consenso-informato-e-di-disposizioni-anticipate-di-trattamento-legge-n-219-del-22-dicembre-2017/
LOCATION:OMCeO Savona\, Italia
CATEGORIES:Eventi degli Ordini
GEO:41.87194;12.56738
END:VEVENT
END:VCALENDAR