BEGIN:VCALENDAR
VERSION:2.0
PRODID:-//FNOMCeO - ECPv5.16.4//NONSGML v1.0//EN
CALSCALE:GREGORIAN
METHOD:PUBLISH
X-WR-CALNAME:FNOMCeO
X-ORIGINAL-URL:https://portale.fnomceo.it
X-WR-CALDESC:Eventi per FNOMCeO
BEGIN:VTIMEZONE
TZID:Europe/Rome
BEGIN:DAYLIGHT
TZOFFSETFROM:+0100
TZOFFSETTO:+0200
TZNAME:CEST
DTSTART:20180325T010000
END:DAYLIGHT
BEGIN:STANDARD
TZOFFSETFROM:+0200
TZOFFSETTO:+0100
TZNAME:CET
DTSTART:20181028T010000
END:STANDARD
END:VTIMEZONE
BEGIN:VEVENT
DTSTART;VALUE=DATE:20180522
DTEND;VALUE=DATE:20180523
DTSTAMP:20260423T110150
CREATED:20180515T092135Z
LAST-MODIFIED:20180515T092135Z
UID:33490-1526947200-1527033599@portale.fnomceo.it
SUMMARY:Nuove sostanze psicoattive: epidemiologia\, farmacotossicologia e legislazione
DESCRIPTION:Per iscriversi al convegno\, inviare una email all’indirizzo: r.giorgetti@univpm.it. L’iscrizione è gratuita.
URL:https://portale.fnomceo.it/eventi-fnomceo/nuove-sostanze-psicoattive-epidemiologia-farmacotossicologia-e-legislazione/
LOCATION:Aula Montessori – Facoltà di Medicina e Chirurgia\, via Conca 71\, Ancona\, Italia
GEO:43.6065851;13.4547402
X-APPLE-STRUCTURED-LOCATION;VALUE=URI;X-ADDRESS=Aula Montessori – Facoltà di Medicina e Chirurgia via Conca 71 Ancona Italia;X-APPLE-RADIUS=500;X-TITLE=via Conca 71:geo:13.4547402,43.6065851
END:VEVENT
END:VCALENDAR