BEGIN:VCALENDAR
VERSION:2.0
PRODID:-//FNOMCeO - ECPv5.16.4//NONSGML v1.0//EN
CALSCALE:GREGORIAN
METHOD:PUBLISH
X-WR-CALNAME:FNOMCeO
X-ORIGINAL-URL:https://portale.fnomceo.it
X-WR-CALDESC:Eventi per FNOMCeO
BEGIN:VTIMEZONE
TZID:Europe/Rome
BEGIN:DAYLIGHT
TZOFFSETFROM:+0100
TZOFFSETTO:+0200
TZNAME:CEST
DTSTART:20190331T010000
END:DAYLIGHT
BEGIN:STANDARD
TZOFFSETFROM:+0200
TZOFFSETTO:+0100
TZNAME:CET
DTSTART:20191027T010000
END:STANDARD
END:VTIMEZONE
BEGIN:VEVENT
DTSTART;TZID=Europe/Rome:20190112T083000
DTEND;TZID=Europe/Rome:20190112T153000
DTSTAMP:20260423T235744
CREATED:20190108T152510Z
LAST-MODIFIED:20190108T152510Z
UID:38907-1547281800-1547307000@portale.fnomceo.it
SUMMARY:OMCeO BAT-Trani\, "Le osteonecrosi delle ossa mascellari da farmaci"
DESCRIPTION:
URL:https://portale.fnomceo.it/eventi-fnomceo/omceo-bat-trani-le-osteonecrosi-delle-ossa-mascellari-da-farmaci/
LOCATION:Omceo BAT – Trani\, Via 124° strada a denominarsi\, 6 (ex via Parini)\, Trani\, Italia
CATEGORIES:Eventi degli Ordini,Formazione e aggiornamento
GEO:41.2764284;16.4056544
X-APPLE-STRUCTURED-LOCATION;VALUE=URI;X-ADDRESS=Omceo BAT – Trani Via 124° strada a denominarsi 6 (ex via Parini) Trani Italia;X-APPLE-RADIUS=500;X-TITLE=Via 124° strada a denominarsi\, 6 (ex via Parini):geo:16.4056544,41.2764284
END:VEVENT
END:VCALENDAR