BEGIN:VCALENDAR
VERSION:2.0
PRODID:-//FNOMCeO - ECPv5.16.4//NONSGML v1.0//EN
CALSCALE:GREGORIAN
METHOD:PUBLISH
X-WR-CALNAME:FNOMCeO
X-ORIGINAL-URL:https://portale.fnomceo.it
X-WR-CALDESC:Eventi per FNOMCeO
BEGIN:VTIMEZONE
TZID:Europe/Rome
BEGIN:DAYLIGHT
TZOFFSETFROM:+0100
TZOFFSETTO:+0200
TZNAME:CEST
DTSTART:20190331T010000
END:DAYLIGHT
BEGIN:STANDARD
TZOFFSETFROM:+0200
TZOFFSETTO:+0100
TZNAME:CET
DTSTART:20191027T010000
END:STANDARD
END:VTIMEZONE
BEGIN:VEVENT
DTSTART;TZID=Europe/Rome:20190309T100000
DTEND;TZID=Europe/Rome:20190309T130000
DTSTAMP:20260423T104959
CREATED:20190218T104249Z
LAST-MODIFIED:20190218T104249Z
UID:39903-1552125600-1552136400@portale.fnomceo.it
SUMMARY:OMCeO Latina\, Giornata del medico. "Il medico ieri e oggi"
DESCRIPTION:
URL:https://portale.fnomceo.it/eventi-fnomceo/omceo-latina-giornata-del-medico-il-medico-ieri-e-oggi/
LOCATION:Sala San Marco della Curia vescovile\, Piazza Paolo VI\, Latina\, Italia
CATEGORIES:Eventi degli Ordini
ORGANIZER;CN="OMCeO%20Latina":MAILTO:info@ordinemedicilatina.it
GEO:41.4553262;12.9089952
X-APPLE-STRUCTURED-LOCATION;VALUE=URI;X-ADDRESS=Sala San Marco della Curia vescovile Piazza Paolo VI Latina Italia;X-APPLE-RADIUS=500;X-TITLE=Piazza Paolo VI:geo:12.9089952,41.4553262
END:VEVENT
END:VCALENDAR