BEGIN:VCALENDAR
VERSION:2.0
PRODID:-//FNOMCeO - ECPv5.16.4//NONSGML v1.0//EN
CALSCALE:GREGORIAN
METHOD:PUBLISH
X-WR-CALNAME:FNOMCeO
X-ORIGINAL-URL:https://portale.fnomceo.it
X-WR-CALDESC:Eventi per FNOMCeO
BEGIN:VTIMEZONE
TZID:Europe/Rome
BEGIN:DAYLIGHT
TZOFFSETFROM:+0100
TZOFFSETTO:+0200
TZNAME:CEST
DTSTART:20240331T010000
END:DAYLIGHT
BEGIN:STANDARD
TZOFFSETFROM:+0200
TZOFFSETTO:+0100
TZNAME:CET
DTSTART:20241027T010000
END:STANDARD
END:VTIMEZONE
BEGIN:VEVENT
DTSTART;TZID=Europe/Rome:20240608T103000
DTEND;TZID=Europe/Rome:20240608T113000
DTSTAMP:20260424T032515
CREATED:20240606T113319Z
LAST-MODIFIED:20240606T113319Z
UID:78109-1717842600-1717846200@portale.fnomceo.it
SUMMARY:OMCeO Oristano\, conferenza stampa di presentazione della tappa del Giro d'Italia delle cure palliative pediatriche
DESCRIPTION:Conferenza stampa di presentazione della tappa del Giro d’Italia\nOristano\, Sede OMCeO\n8 giugno 2024 \nSabato 8 giugno 2024\, alle ore 10.45\, si svolgerà presso la sede dell’Ordine dei Medici di Oristano la conferenza stampa di presentazione della tappa del Giro d’Italia delle cure palliative pediatriche che si terrà in città venerdì 14 Giugno. \nLa manifestazione è curata dall’Unità Operativa di Pediatria e Neonatologia dell’Ospedale San Martino\, con la collaborazione dell’Ordine dei Medici e della società benefit CRAI.
URL:https://portale.fnomceo.it/eventi-fnomceo/omceo-oristano-conferenza-stampa-di-presentazione-della-tappa-del-giro-ditalia-delle-cure-palliative-pediatriche/
LOCATION:Sala Conferenze dell’Ordine dei Medici chirurghi e degli Odontoiatri della provincia di Oristano\, Via G. Canalis n. 11\, Oristano\, Italia
CATEGORIES:Eventi degli Ordini
GEO:39.9038292;8.5843456
X-APPLE-STRUCTURED-LOCATION;VALUE=URI;X-ADDRESS=Sala Conferenze dell’Ordine dei Medici chirurghi e degli Odontoiatri della provincia di Oristano Via G. Canalis n. 11 Oristano Italia;X-APPLE-RADIUS=500;X-TITLE=Via G. Canalis n. 11:geo:8.5843456,39.9038292
END:VEVENT
END:VCALENDAR