BEGIN:VCALENDAR
VERSION:2.0
PRODID:-//FNOMCeO - ECPv5.16.4//NONSGML v1.0//EN
CALSCALE:GREGORIAN
METHOD:PUBLISH
X-WR-CALNAME:FNOMCeO
X-ORIGINAL-URL:https://portale.fnomceo.it
X-WR-CALDESC:Eventi per FNOMCeO
BEGIN:VTIMEZONE
TZID:Europe/Rome
BEGIN:DAYLIGHT
TZOFFSETFROM:+0100
TZOFFSETTO:+0200
TZNAME:CEST
DTSTART:20210328T010000
END:DAYLIGHT
BEGIN:STANDARD
TZOFFSETFROM:+0200
TZOFFSETTO:+0100
TZNAME:CET
DTSTART:20211031T010000
END:STANDARD
END:VTIMEZONE
BEGIN:VEVENT
DTSTART;TZID=Europe/Rome:20210630T153000
DTEND;TZID=Europe/Rome:20210630T183000
DTSTAMP:20260420T085529
CREATED:20210726T143420Z
LAST-MODIFIED:20210727T140327Z
UID:60358-1625067000-1625077800@portale.fnomceo.it
SUMMARY:OMCeO Palermo\, webinar "Il Futuro della medicina: tra grandi sfide innovative e bias cognitivi"
DESCRIPTION:IMPACT CYCLE WEBINAR Il Futuro della medicina: tra grandi sfide innovative e bias cognitivi \nIl progetto è realizzato dall’OMCeO Palermo e dalla Prof. Elita Schillaci (Università di Catania)  ed è costituito da un ciclo di seminari on line che avrà cadenza mensile per un totale di sette incontri\, ciascuno dedicato ad una specifica tematica come da programma. \nIscrizione a questo link.
URL:https://portale.fnomceo.it/eventi-fnomceo/omceo-palermo-webinar-il-futuro-della-medicina-tra-grandi-sfide-innovative-e-bias-cognitivi/2021-06-30/
LOCATION:Web\, Italia
CATEGORIES:Formazione e aggiornamento
ATTACH;FMTTYPE=image/png:https://portale.fnomceo.it/wp-content/uploads/2021/07/Progetto-Generale.png
GEO:41.87194;12.56738
END:VEVENT
END:VCALENDAR