BEGIN:VCALENDAR
VERSION:2.0
PRODID:-//FNOMCeO - ECPv5.16.4//NONSGML v1.0//EN
CALSCALE:GREGORIAN
METHOD:PUBLISH
X-WR-CALNAME:FNOMCeO
X-ORIGINAL-URL:https://portale.fnomceo.it
X-WR-CALDESC:Eventi per FNOMCeO
BEGIN:VTIMEZONE
TZID:Europe/Rome
BEGIN:DAYLIGHT
TZOFFSETFROM:+0100
TZOFFSETTO:+0200
TZNAME:CEST
DTSTART:20180325T010000
END:DAYLIGHT
BEGIN:STANDARD
TZOFFSETFROM:+0200
TZOFFSETTO:+0100
TZNAME:CET
DTSTART:20181028T010000
END:STANDARD
END:VTIMEZONE
BEGIN:VEVENT
DTSTART;VALUE=DATE:20181006
DTEND;VALUE=DATE:20181007
DTSTAMP:20260423T034108
CREATED:20180729T082437Z
LAST-MODIFIED:20180729T083205Z
UID:35271-1538784000-1538870399@portale.fnomceo.it
SUMMARY:“Open day: Malattia di Menière\, Vertigini\, Acufeni\, Nutrizione”
DESCRIPTION:Il titolo evidenzia la necessità di aggiornare oltre i pazienti\, anche i medici e gli audiometristi sullo status oggi della ricerca e delle terapie per la Malattia di Menière. \nQuesti gli argomenti trattati: insufficienza venosa cerebro spinale cronica quale possibile causa o con-causa etiologica e di co-morbidità della Malattia di Menière; riabilitazione vestibolare; terapia degli acufeni; nutrizione. \nLa partecipazione è gratuita aperta a tutti.
URL:https://portale.fnomceo.it/eventi-fnomceo/open-day-malattia-di-meniere-vertigini-acufeni-nutrizione/
LOCATION:Centro convegni Arci\, via Monti di Pietralata 16\, Roma\, Italia
CATEGORIES:Formazione e aggiornamento
ORGANIZER;CN="AMMI%20Onlus%20-%20Associazione%20Malati%20Meni%C3%A8re%20Insieme%20Onlus":MAILTO:info@ammi-italia.it
GEO:41.9109819;12.5371079
X-APPLE-STRUCTURED-LOCATION;VALUE=URI;X-ADDRESS=Centro convegni Arci via Monti di Pietralata 16 Roma Italia;X-APPLE-RADIUS=500;X-TITLE=via Monti di Pietralata 16:geo:12.5371079,41.9109819
END:VEVENT
END:VCALENDAR