BEGIN:VCALENDAR
VERSION:2.0
PRODID:-//FNOMCeO - ECPv5.16.4//NONSGML v1.0//EN
CALSCALE:GREGORIAN
METHOD:PUBLISH
X-WR-CALNAME:FNOMCeO
X-ORIGINAL-URL:https://portale.fnomceo.it
X-WR-CALDESC:Eventi per FNOMCeO
BEGIN:VTIMEZONE
TZID:Europe/Rome
BEGIN:DAYLIGHT
TZOFFSETFROM:+0100
TZOFFSETTO:+0200
TZNAME:CEST
DTSTART:20190331T010000
END:DAYLIGHT
BEGIN:STANDARD
TZOFFSETFROM:+0200
TZOFFSETTO:+0100
TZNAME:CET
DTSTART:20191027T010000
END:STANDARD
END:VTIMEZONE
BEGIN:VEVENT
DTSTART;TZID=Europe/Rome:20190516T110000
DTEND;TZID=Europe/Rome:20190516T150000
DTSTAMP:20260420T123439
CREATED:20190507T113528Z
LAST-MODIFIED:20190507T113528Z
UID:41757-1558004400-1558018800@portale.fnomceo.it
SUMMARY:Palermo\, Conferenza mondiale "Revitalization of Mediterranean Diet"
DESCRIPTION:L’OMCeO di Palermo nell’ambito della seconda Conferenza mondiale sulla Dieta mediterranea organizza per il 16 maggio “Networking EuroMediterranean Countries for Sustainable Food Consumption and Production Strategies using the Mediterranean Diet for the Prevention of Noncommunicable Diseases”. \nProgramma\nOre 11.00 “Stato della Salute nei paesi dell’area del Mediterraneo”\nDott. Giuseppe Disclafani\nOre 11.15 “Quale ruolo della dieta mediterranea nella prevenzione delle malattie croniche non\ntrasmissibili”\nDott. Salvatore Verga\nOre 11.30 “Cute e dieta mediterranea”\nProf. Salvatore Amato\nOre 11.45 “Stili di vita e prevenzione delle malattie croniche non trasmissibili”\nProf. Ligia Dominguez\nOre 12.00 “Programma di certificazione della dieta mediterranea”\nProf. Alberto Firenze \nOre 12.15 TAVOLA ROTONDA\nIntervengono: Salvatore Amato\, Mohamed Bekkat Berkani\, Adam Darawsha\, Mojina\nDourandish\, Luigi Galvano\, Musa Awad Hussein\, Raimondo Ibba.\nOre 13.00 Chiusura Lavori
URL:https://portale.fnomceo.it/eventi-fnomceo/palermo-conferenza-mondiale-revitalization-of-mediterranean-diet/
LOCATION:Palazzo Comitini\, Via Maqueda\, 121\, Palermo\, Italia
CATEGORIES:Eventi degli Ordini,Formazione e aggiornamento,Riunioni internazionali
GEO:38.1130464;13.3632704
X-APPLE-STRUCTURED-LOCATION;VALUE=URI;X-ADDRESS=Palazzo Comitini Via Maqueda 121 Palermo Italia;X-APPLE-RADIUS=500;X-TITLE=Via Maqueda\, 121:geo:13.3632704,38.1130464
END:VEVENT
END:VCALENDAR