BEGIN:VCALENDAR
VERSION:2.0
PRODID:-//FNOMCeO - ECPv5.16.4//NONSGML v1.0//EN
CALSCALE:GREGORIAN
METHOD:PUBLISH
X-WR-CALNAME:FNOMCeO
X-ORIGINAL-URL:https://portale.fnomceo.it
X-WR-CALDESC:Eventi per FNOMCeO
BEGIN:VTIMEZONE
TZID:Europe/Rome
BEGIN:DAYLIGHT
TZOFFSETFROM:+0100
TZOFFSETTO:+0200
TZNAME:CEST
DTSTART:20180325T010000
END:DAYLIGHT
BEGIN:STANDARD
TZOFFSETFROM:+0200
TZOFFSETTO:+0100
TZNAME:CET
DTSTART:20181028T010000
END:STANDARD
END:VTIMEZONE
BEGIN:VEVENT
DTSTART;TZID=Europe/Rome:20181116T083000
DTEND;TZID=Europe/Rome:20181116T180000
DTSTAMP:20260425T214257
CREATED:20181112T170012Z
LAST-MODIFIED:20181112T170012Z
UID:37738-1542357000-1542391200@portale.fnomceo.it
SUMMARY:Palermo\, “La terapia oppiacea per il trattamento del dolore: il ruolo dei servizi per le dipendenze per il miglioramento dell’efficacia e della sicurezza dei trattamenti”.
DESCRIPTION:
URL:https://portale.fnomceo.it/eventi-fnomceo/palermo-la-terapia-oppiacea-per-il-trattamento-del-dolore-il-ruolo-dei-servizi-per-le-dipendenze-per-il-miglioramento-dellefficacia-e-della-sicurezza-dei-trattamenti/
LOCATION:Grand Hotel et Des Palmes\, Via Roma\, 398\, Palermo\, Italia
CATEGORIES:Formazione e aggiornamento
GEO:38.1239142;13.3593181
X-APPLE-STRUCTURED-LOCATION;VALUE=URI;X-ADDRESS=Grand Hotel et Des Palmes Via Roma 398 Palermo Italia;X-APPLE-RADIUS=500;X-TITLE=Via Roma\, 398:geo:13.3593181,38.1239142
END:VEVENT
END:VCALENDAR