BEGIN:VCALENDAR
VERSION:2.0
PRODID:-//FNOMCeO - ECPv5.16.4//NONSGML v1.0//EN
CALSCALE:GREGORIAN
METHOD:PUBLISH
X-WR-CALNAME:FNOMCeO
X-ORIGINAL-URL:https://portale.fnomceo.it
X-WR-CALDESC:Eventi per FNOMCeO
BEGIN:VTIMEZONE
TZID:Europe/Rome
BEGIN:DAYLIGHT
TZOFFSETFROM:+0100
TZOFFSETTO:+0200
TZNAME:CEST
DTSTART:20190331T010000
END:DAYLIGHT
BEGIN:STANDARD
TZOFFSETFROM:+0200
TZOFFSETTO:+0100
TZNAME:CET
DTSTART:20191027T010000
END:STANDARD
END:VTIMEZONE
BEGIN:VEVENT
DTSTART;TZID=Europe/Rome:20191018T080000
DTEND;TZID=Europe/Rome:20191019T180000
DTSTAMP:20260425T130028
CREATED:20191016T104926Z
LAST-MODIFIED:20191016T104926Z
UID:46012-1571385600-1571508000@portale.fnomceo.it
SUMMARY:Parma\, doppio appuntamento Convegno nazionale su eutanasia e assemblea ordinaria annuale
DESCRIPTION:VENERDì 18 OTTOBRE: “IL SUICIDIO ASSISTITO TRA DIRITTO E DEONTOLOGIA”\nDopo La Sentenza “Cappato – Dj Fabo” Parma ospiterà la Consulta Deontologica Nazionale della Fnomceo per valutare la posizione ufficiale della categoria medica sull’aiuto al suicidio \nVenerdì 18 Ottobre 2019\, a Palazzo Soragna\, sede dell’Unione parmense degli industriali\, a partire dalle ore 8.30 si parlerà de “Il suicidio assistito tra diritto e deontologia. La legge il consenso e la palliazione. I chiaroscuri dell’ordinanza 207/18 della Corte Costituzionale”. \nUn convegno Nazionale\, organizzato dall’OMCeO Parma e Consulta Nazionale Deontologica Primo GDL su Suicidio Assistito e Eutanasia sotto l’egida della FNOMCeO\, che fa seguito alla recentissima sentenza della Corte Costituzionale del 26 settembre scorso che si è pronunciata\, in assenza di normazione parlamentare\, riguardo al caso Cappato Dj Fabo\, sulla non punibilità\, a determinate condizioni\, in caso di aiuto al suicidio. \nDopo la storica sentenza della Consulta\, gli scenari che riguardano la professione medica si prospettano ancor più delicati e intricati per cui\, vista l’importanza e la contingenza stringente del tema\, il convegno che si terrà a Parma è stato eletto come luogo deputato a valutare la posizione della categoria medica sul tema. \nParteciperanno i componenti della Consulta Deontologica Nazionale della FNOMCeO\, coordinata proprio dal presidente dell’Ordine dei medici di Parma Pierantonio Muzzetto\, e altri illustri relatori del mondo medico\, politico e giuridico. \nTra cui il Presidente FNOMCeO Filippo Anelli\, il Segretario FNOMCeO Roberto Monaco\, il Vicepresidente Sicp Luciano Orsi\, il parlamentare e Componente del Comitato nazionale di Bioetica Lucio Romano\, il Direttore Unità di Bioetica e Presidente Comitato Etico Istituto Superiore di Sanità Carlo Petrini. E poi ancora Antonio D’Aloja\, Ordinario Diritto Costituzionale Unipr\, Stefano Canestrari\, Ordinario di Diritto Penale Unibo\, Gianfranco Iadecola\, Giurista. \n19 OTTOBRE: ASSEMBLEA ORDINARIA ANNUALE DEGLI ISCRITTI OMCEO PARMA \nSabato 19 Ottobre 2019\, a Palazzo Soragna\, sede dell’Unione parmense degli industriali\, a partire dalle ore 9 si svolgerà l’Assemblea ordinaria annuale degli iscritti dell’Ordine dei medici\, chirurghi e odontoiatri della provincia di Parma. \nLa GIORNATA DEL MEDICO\, sarà particolarmente importante perché il presidente Pierantonio Muzzetto nella sua relazione morale toccherà aspetti della vita ordinistica\, in relazione ai rapporti con istituzioni e forze economiche locali. In merito alle problematiche nazionali si soffermerà\, tra gli altri argomenti\, sul crescente fenomeno della violenza contro i medici\, sul ruolo del medico di fronte a Dat – disposizioni anticipate di trattamento ed eutanasia\, sul tentativo\, in ottica economicistica\, di riassetto di ruoli e funzioni del medico e delle altre figure sanitarie; sulla responsabilità medica; e sul problema delle assicurazioni che gravano soprattutto sui giovani. Seguirà la relazione di Angelo di Mola presidente degli Odontoiatri e\, fase importante dell’assemblea\, sarà anche il momento in cui gli iscritti saranno chiamati a votare i Bilanci Consuntivo 2018 e di Previsione 2020. Infine la solenne cerimonia di premiazione dei 15 colleghi con 50 anni laurea e il Giuramento di oltre 100 neo abilitati\, primo atto dell’ingresso dei giovani nella famiglia dei medici.
URL:https://portale.fnomceo.it/eventi-fnomceo/parma-doppio-appuntamento-convegno-nazionale-su-eutanasia-e-assemblea-ordinaria-annuale/
LOCATION:OMCeO Parma\, Via Po\, 134\, Parma\, Italia
GEO:44.7862433;10.3238545
X-APPLE-STRUCTURED-LOCATION;VALUE=URI;X-ADDRESS=OMCeO Parma Via Po 134 Parma Italia;X-APPLE-RADIUS=500;X-TITLE=Via Po\, 134:geo:10.3238545,44.7862433
END:VEVENT
END:VCALENDAR