BEGIN:VCALENDAR
VERSION:2.0
PRODID:-//FNOMCeO - ECPv5.16.4//NONSGML v1.0//EN
CALSCALE:GREGORIAN
METHOD:PUBLISH
X-WR-CALNAME:FNOMCeO
X-ORIGINAL-URL:https://portale.fnomceo.it
X-WR-CALDESC:Eventi per FNOMCeO
BEGIN:VTIMEZONE
TZID:Europe/Rome
BEGIN:DAYLIGHT
TZOFFSETFROM:+0100
TZOFFSETTO:+0200
TZNAME:CEST
DTSTART:20200329T010000
END:DAYLIGHT
BEGIN:STANDARD
TZOFFSETFROM:+0200
TZOFFSETTO:+0100
TZNAME:CET
DTSTART:20201025T010000
END:STANDARD
END:VTIMEZONE
BEGIN:VEVENT
DTSTART;TZID=Europe/Rome:20201022T080000
DTEND;TZID=Europe/Rome:20201023T180000
DTSTAMP:20260420T034848
CREATED:20200709T133202Z
LAST-MODIFIED:20200709T133202Z
UID:52001-1603353600-1603476000@portale.fnomceo.it
SUMMARY:Parma\, “La Cultura Odontoiatrica. La prevenzione gnatologica delle malattie dell’apparato stomatognatico: Cultura vs Credenze”
DESCRIPTION:
URL:https://portale.fnomceo.it/eventi-fnomceo/parma-la-cultura-odontoiatrica-la-prevenzione-gnatologica-delle-malattie-dellapparato-stomatognatico-cultura-vs-credenze/
LOCATION:Parma\, Starhotels Du Parc\, Viale Piacenza\, 12/c\, Parma\, 43100\, Italia
CATEGORIES:Formazione e aggiornamento
GEO:44.808157;10.3180915
X-APPLE-STRUCTURED-LOCATION;VALUE=URI;X-ADDRESS=Parma Starhotels Du Parc Viale Piacenza 12/c Parma 43100 Italia;X-APPLE-RADIUS=500;X-TITLE=Viale Piacenza\, 12/c:geo:10.3180915,44.808157
END:VEVENT
END:VCALENDAR