BEGIN:VCALENDAR
VERSION:2.0
PRODID:-//FNOMCeO - ECPv5.16.4//NONSGML v1.0//EN
CALSCALE:GREGORIAN
METHOD:PUBLISH
X-WR-CALNAME:FNOMCeO
X-ORIGINAL-URL:https://portale.fnomceo.it
X-WR-CALDESC:Eventi per FNOMCeO
BEGIN:VTIMEZONE
TZID:Europe/Rome
BEGIN:DAYLIGHT
TZOFFSETFROM:+0100
TZOFFSETTO:+0200
TZNAME:CEST
DTSTART:20190331T010000
END:DAYLIGHT
BEGIN:STANDARD
TZOFFSETFROM:+0200
TZOFFSETTO:+0100
TZNAME:CET
DTSTART:20191027T010000
END:STANDARD
END:VTIMEZONE
BEGIN:VEVENT
DTSTART;TZID=Europe/Rome:20190413T083000
DTEND;TZID=Europe/Rome:20190413T143000
DTSTAMP:20260425T131049
CREATED:20190318T140833Z
LAST-MODIFIED:20190318T140833Z
UID:40710-1555144200-1555165800@portale.fnomceo.it
SUMMARY:Parma\, seminario "I cambiamenti e la crisi della professione medica di fronte agli input economici e giuridici e alle mutate richieste dei pazienti: come prepararsi al futuro che è già oggi?"
DESCRIPTION:Sabato 13 Aprile 2019\, presso la sede dell’Ordine dei Medici Chirurghi e Odontoiatri di Parma\, in via Po 134\, si terrà a partire dalle ore 8.30 fino alle ore 14.30\, il seminario-convegno “I cambiamenti e la crisi della professione medica di fronte agli input economici e giuridici e alle mutate richieste dei pazienti: come prepararsi al futuro che è già oggi?”\, previsto nell’ambito degli Stati Generali della Professione. \nL’evento per 70 medici e odontoiatri\, dà diritto a 7\,8 crediti che saranno assicurati a coloro che avranno effettuato l’iscrizione a info@omceopr.it \n\n 
URL:https://portale.fnomceo.it/eventi-fnomceo/parma-seminario-i-cambiamenti-e-la-crisi-della-professione-medica-di-fronte-agli-input-economici-e-giuridici-e-alle-mutate-richieste-dei-pazienti-come-prepararsi-al-futuro-che-e-gia-oggi/
LOCATION:OMCeO Parma\, Via Po\, 134\, Parma\, Italia
CATEGORIES:Eventi degli Ordini,Formazione e aggiornamento
GEO:44.7862433;10.3238545
X-APPLE-STRUCTURED-LOCATION;VALUE=URI;X-ADDRESS=OMCeO Parma Via Po 134 Parma Italia;X-APPLE-RADIUS=500;X-TITLE=Via Po\, 134:geo:10.3238545,44.7862433
END:VEVENT
END:VCALENDAR