BEGIN:VCALENDAR
VERSION:2.0
PRODID:-//FNOMCeO - ECPv5.16.4//NONSGML v1.0//EN
CALSCALE:GREGORIAN
METHOD:PUBLISH
X-WR-CALNAME:FNOMCeO
X-ORIGINAL-URL:https://portale.fnomceo.it
X-WR-CALDESC:Eventi per FNOMCeO
BEGIN:VTIMEZONE
TZID:Europe/Rome
BEGIN:DAYLIGHT
TZOFFSETFROM:+0100
TZOFFSETTO:+0200
TZNAME:CEST
DTSTART:20200329T010000
END:DAYLIGHT
BEGIN:STANDARD
TZOFFSETFROM:+0200
TZOFFSETTO:+0100
TZNAME:CET
DTSTART:20201025T010000
END:STANDARD
END:VTIMEZONE
BEGIN:VEVENT
DTSTART;TZID=Europe/Rome:20201201T080000
DTEND;TZID=Europe/Rome:20201201T170000
DTSTAMP:20260422T213414
CREATED:20201103T154957Z
LAST-MODIFIED:20201103T154957Z
UID:54384-1606809600-1606842000@portale.fnomceo.it
SUMMARY:Progetto “Anticipare le nuove sfide del Covid-19: vaccini e società”
DESCRIPTION:Il Between Science & Society HUB dell’Italian Institute for the Future\, impegnato nello studio delle dinamiche scienza-società in chiave anticipante per favorire un progresso tecno-scientifico democratico e inclusivo\, intende avviare un progetto dedicato all’anticipazione delle sfide poste dalla crisi COVID-19 al dialogo tra scienza e società\, con un focus particolare sulle possibili future resistenze alla campagne vaccinale\, per prevedere in anticipo le cause e i motivi di opposizione e resistenza\, nonché le possibili future narrative negazioniste e/o pseudoscientifiche\, allo scopo di fornire ai decisori pubblici suggerimenti e strategie per migliorare le modalità di comunicazione e divulgazione della campagna vaccinale.
URL:https://portale.fnomceo.it/eventi-fnomceo/progetto-anticipare-le-nuove-sfide-del-covid-19-vaccini-e-societa/
LOCATION:Web\, Italia
CATEGORIES:Formazione e aggiornamento
GEO:41.87194;12.56738
END:VEVENT
END:VCALENDAR