BEGIN:VCALENDAR
VERSION:2.0
PRODID:-//FNOMCeO - ECPv5.16.4//NONSGML v1.0//EN
CALSCALE:GREGORIAN
METHOD:PUBLISH
X-WR-CALNAME:FNOMCeO
X-ORIGINAL-URL:https://portale.fnomceo.it
X-WR-CALDESC:Eventi per FNOMCeO
BEGIN:VTIMEZONE
TZID:Europe/Rome
BEGIN:DAYLIGHT
TZOFFSETFROM:+0100
TZOFFSETTO:+0200
TZNAME:CEST
DTSTART:20180325T010000
END:DAYLIGHT
BEGIN:STANDARD
TZOFFSETFROM:+0200
TZOFFSETTO:+0100
TZNAME:CET
DTSTART:20181028T010000
END:STANDARD
END:VTIMEZONE
BEGIN:VEVENT
DTSTART;TZID=Europe/Rome:20181013T080000
DTEND;TZID=Europe/Rome:20181013T170000
DTSTAMP:20260423T055711
CREATED:20180828T101710Z
LAST-MODIFIED:20180828T101710Z
UID:35635-1539417600-1539450000@portale.fnomceo.it
SUMMARY:Radiologia ed Arte
DESCRIPTION:L’Ordine dei Medici di Palermo organizza un corso tramite lezioni magistrali diretto a tutte le professioni sanitarie dal titolo “Radiologia ed Arte”\, che si svolgerà il 13 ottobre 2018 presso Villa Magnisi\, sede dell’OMCeO di Palermo. \nDocenti: Giuseppe Salerno\, Daniela Lo Sasso \nMetodologia: Il corso è residenziale si articolerà in un incontro per un totale di 6 ore e si svolgerà attraverso\nlezioni magistrali. La valutazione dell’apprendimento sarà effettuata attraverso un questionario a risposta\nmultipla. \nIscrizioni: La partecipazione è riservata ad un numero di 80 partecipanti di tutte le professioni sanitarie
URL:https://portale.fnomceo.it/eventi-fnomceo/radiologia-ed-arte/
LOCATION:Villa Magnisi\, Via Rosario da Partanna Padre\, 22\, Palermo\, Italia
CATEGORIES:Eventi degli Ordini,Formazione e aggiornamento
ATTACH;FMTTYPE=image/jpeg:https://portale.fnomceo.it/wp-content/uploads/2018/08/locandina-arte_def-1-001.jpg
GEO:38.1705472;13.3234564
X-APPLE-STRUCTURED-LOCATION;VALUE=URI;X-ADDRESS=Villa Magnisi Via Rosario da Partanna Padre 22 Palermo Italia;X-APPLE-RADIUS=500;X-TITLE=Via Rosario da Partanna Padre\, 22:geo:13.3234564,38.1705472
END:VEVENT
END:VCALENDAR