BEGIN:VCALENDAR
VERSION:2.0
PRODID:-//FNOMCeO - ECPv5.16.4//NONSGML v1.0//EN
CALSCALE:GREGORIAN
METHOD:PUBLISH
X-WR-CALNAME:FNOMCeO
X-ORIGINAL-URL:https://portale.fnomceo.it
X-WR-CALDESC:Eventi per FNOMCeO
BEGIN:VTIMEZONE
TZID:Europe/Rome
BEGIN:DAYLIGHT
TZOFFSETFROM:+0100
TZOFFSETTO:+0200
TZNAME:CEST
DTSTART:20190331T010000
END:DAYLIGHT
BEGIN:STANDARD
TZOFFSETFROM:+0200
TZOFFSETTO:+0100
TZNAME:CET
DTSTART:20191027T010000
END:STANDARD
END:VTIMEZONE
BEGIN:VEVENT
DTSTART;TZID=Europe/Rome:20191109T080000
DTEND;TZID=Europe/Rome:20191109T170000
DTSTAMP:20260423T222856
CREATED:20191031T142007Z
LAST-MODIFIED:20191031T142007Z
UID:46400-1573286400-1573318800@portale.fnomceo.it
SUMMARY:Ragusa\, corso "La violenza in sanità"
DESCRIPTION:
URL:https://portale.fnomceo.it/eventi-fnomceo/ragusa-corso-la-violenza-in-sanita/
LOCATION:Omceo Ragusa\, Via Guglielmo Nicastro 50\, Ragusa\, Italia
CATEGORIES:Eventi degli Ordini,Formazione e aggiornamento
GEO:36.92776;14.71056
X-APPLE-STRUCTURED-LOCATION;VALUE=URI;X-ADDRESS=Omceo Ragusa Via Guglielmo Nicastro 50 Ragusa Italia;X-APPLE-RADIUS=500;X-TITLE=Via Guglielmo Nicastro 50:geo:14.71056,36.92776
END:VEVENT
END:VCALENDAR