BEGIN:VCALENDAR
VERSION:2.0
PRODID:-//FNOMCeO - ECPv5.16.4//NONSGML v1.0//EN
CALSCALE:GREGORIAN
METHOD:PUBLISH
X-WR-CALNAME:FNOMCeO
X-ORIGINAL-URL:https://portale.fnomceo.it
X-WR-CALDESC:Eventi per FNOMCeO
BEGIN:VTIMEZONE
TZID:Europe/Rome
BEGIN:DAYLIGHT
TZOFFSETFROM:+0100
TZOFFSETTO:+0200
TZNAME:CEST
DTSTART:20190331T010000
END:DAYLIGHT
BEGIN:STANDARD
TZOFFSETFROM:+0200
TZOFFSETTO:+0100
TZNAME:CET
DTSTART:20191027T010000
END:STANDARD
END:VTIMEZONE
BEGIN:VEVENT
DTSTART;TZID=Europe/Rome:20191116T080000
DTEND;TZID=Europe/Rome:20191116T130000
DTSTAMP:20260423T163913
CREATED:20191024T104117Z
LAST-MODIFIED:20191030T103532Z
UID:46228-1573891200-1573909200@portale.fnomceo.it
SUMMARY:Reggio Emilia\, Medicina di genere anno 2019
DESCRIPTION:L’iniziativa si terrà sabato 16 novembre p.v. presso Palazzo del Capitano – Piazza del Monte (RE). La partecipazione  al Convegno è gratuita. Sarà rilasciato attestato di partecipazione. \nLe iscrizioni si effettuano on line attraverso l’area riservata del sito dell’Ordine al link \nhttps://www.odmeo.re.it/reserved/it/login \nLe istruzioni per le iscrizioni sono visualizzabili alla pagina https://www.odmeo.re.it/istruzioni-per-iscrizione-ad-eventi-formativi-tramite-area-riservata-del-sito-omceo-re/ \nSi raccomanda di avvisare per tempo la Segreteria in caso di impossibilità a partecipare\, ricordando che\, se non verrà dato congruo preavviso\, sarà preclusa la partecipazione ai successivi due eventi organizzati. \nAccreditamento ECM tramite il Partenariato FNOMCeO – OMCeO in Rete. Evento rif. 2603 – 278761 Crediti ECM n. 4 validi per Medici Chirurghi e per Odontoiatri. Numero massimo di partecipanti: 100. \nObiettivo formativo nazionale n. 18. “Contenuti tecnico-professionali (conoscenze e competenze) specifici di ciascuna professione\, di ciascuna specializzazione e di ciascuna attività ultraspecialistica\, ivi incluse le malattie rare e la medicina di genere”.
URL:https://portale.fnomceo.it/eventi-fnomceo/reggio-emilia-medicina-di-genere-anno-2019/
LOCATION:Reggio Emilia\, Palazzo del Capitano del Popolo\, Piazza del Monte\, 2G\, Reggio Emilia\, 42121\, Italia
GEO:44.6985115;10.6312511
X-APPLE-STRUCTURED-LOCATION;VALUE=URI;X-ADDRESS=Reggio Emilia Palazzo del Capitano del Popolo Piazza del Monte 2G Reggio Emilia 42121 Italia;X-APPLE-RADIUS=500;X-TITLE=Piazza del Monte\, 2G:geo:10.6312511,44.6985115
END:VEVENT
END:VCALENDAR