BEGIN:VCALENDAR
VERSION:2.0
PRODID:-//FNOMCeO - ECPv5.16.4//NONSGML v1.0//EN
CALSCALE:GREGORIAN
METHOD:PUBLISH
X-WR-CALNAME:FNOMCeO
X-ORIGINAL-URL:https://portale.fnomceo.it
X-WR-CALDESC:Eventi per FNOMCeO
BEGIN:VTIMEZONE
TZID:Europe/Rome
BEGIN:DAYLIGHT
TZOFFSETFROM:+0100
TZOFFSETTO:+0200
TZNAME:CEST
DTSTART:20180325T010000
END:DAYLIGHT
BEGIN:STANDARD
TZOFFSETFROM:+0200
TZOFFSETTO:+0100
TZNAME:CET
DTSTART:20181028T010000
END:STANDARD
END:VTIMEZONE
BEGIN:VEVENT
DTSTART;TZID=Europe/Rome:20181201T083000
DTEND;TZID=Europe/Rome:20181201T130000
DTSTAMP:20260421T101328
CREATED:20181015T102858Z
LAST-MODIFIED:20181022T093554Z
UID:36921-1543653000-1543669200@portale.fnomceo.it
SUMMARY:Reggio Emilia\, "Mutilazioni Genitali Femminili. Una sola parola: FINE"
DESCRIPTION:Sono stati richiesti crediti formativi E.C.M. per le seguenti figure professionali: Medici Chirurghi e Odontoiatri\, Infermieri\, Assistenti sanitari\, Ostetriche\, Infermieri pediatrici\, Farmacisti\, Psicologi.\nSono stati richiesti i crediti formativi all’Ordine Assistenti Sociali\, Consiglio Regionale dell’Emilia Romagna\, all’Ordine degli Avvocati Reggio Emilia e a Reggio Children.\nPer il rilascio dei crediti ECM occorre partecipare ad entrambe le date previste ed ottemperare a quanto previsto dalla normativa ECM in termini di valutazione apprendimento e gradimento dell’iniziativa. Le stesse condizioni sono valide anche per le professioni non sanitarie.\nObiettivo nazionale ECM n. 15 (multiculturalità e cultura dell’accoglienza nell’attività sanitaria) \nModalità di iscrizione\nLe iscrizioni da parte dei professionisti sanitari si effettuano on line attraverso l’area riservata del sito dell’Ordine dei Medici Chirurghi ed Odontoiatri di Reggio Emilia\, alla pagina https://www.odmeo.re.it/reserved/it/login-page.php utilizzando le proprie credenziali. Per richiederle\, cliccare\, nella stessa pagina\, sul link “Richiedile ora” (se Medico Chirurgo o Odontoiatra iscritto OMCeO RE)\, oppure compilare il form “registrazione” ed attendere l’abilitazione. \nLe adesioni da parte di professionisti che operano in ambito educativo\, giuridico e sociale devono essere inviate\, tramite apposita scheda\, all’indirizzo e mail: faiza.mahri@comune.re.it\nLe richieste saranno accolte in ordine di arrivo sulla base dei posti assegnati alle singole professioni.\nLa partecipazione all’evento è gratuita.\nIl programma è disponibile nella sezione “offerta formativa” del sito della Società Medica L. Spallanzani al link www.lospallanzani.it\nPosti disponibili: 85
URL:https://portale.fnomceo.it/eventi-fnomceo/reggio-emilia-mutilazioni-genitali-femminili-una-sola-parola-fine/2018-12-01/
LOCATION:Palazzo Renata Fonte\, Via Emilia San Pietro\, 12\, Reggio Emilia\, Italia
CATEGORIES:Eventi degli Ordini,Formazione e aggiornamento
GEO:44.6976147;10.6339547
X-APPLE-STRUCTURED-LOCATION;VALUE=URI;X-ADDRESS=Palazzo Renata Fonte Via Emilia San Pietro 12 Reggio Emilia Italia;X-APPLE-RADIUS=500;X-TITLE=Via Emilia San Pietro\, 12:geo:10.6339547,44.6976147
END:VEVENT
END:VCALENDAR