BEGIN:VCALENDAR
VERSION:2.0
PRODID:-//FNOMCeO - ECPv5.16.4//NONSGML v1.0//EN
CALSCALE:GREGORIAN
METHOD:PUBLISH
X-WR-CALNAME:FNOMCeO
X-ORIGINAL-URL:https://portale.fnomceo.it
X-WR-CALDESC:Eventi per FNOMCeO
BEGIN:VTIMEZONE
TZID:Europe/Rome
BEGIN:DAYLIGHT
TZOFFSETFROM:+0100
TZOFFSETTO:+0200
TZNAME:CEST
DTSTART:20250330T010000
END:DAYLIGHT
BEGIN:STANDARD
TZOFFSETFROM:+0200
TZOFFSETTO:+0100
TZNAME:CET
DTSTART:20251026T010000
END:STANDARD
END:VTIMEZONE
BEGIN:VEVENT
DTSTART;TZID=Europe/Rome:20251120T090000
DTEND;TZID=Europe/Rome:20251122T180000
DTSTAMP:20260419T150512
CREATED:20250916T110431Z
LAST-MODIFIED:20250916T110431Z
UID:85834-1763629200-1763834400@portale.fnomceo.it
SUMMARY:Riccione\, XXXII Congresso Nazionale SICP “11.0 Evoluzione delle reti per il rinnovamento del Sistema Sanitario Nazionale”
DESCRIPTION:XXXII Congresso Nazionale SICP\n“11.0 Evoluzione delle reti per il rinnovamento del Sistema Sanitario Nazionale”\nRiccione\, Location da definire\n20 – 22 novembre 2025 \nSi terrà dal 20 al 22 novembre 2025 a Riccione il XXXII Congresso Nazionale SICP dal titolo “11.0 Evoluzione delle reti per il rinnovamento del Sistema Sanitario Nazionale”. I lavori saranno dedicati a un ripensamento critico del modello attuale delle reti locali\, elaborato in un contesto immediatamente post pandemico\, promuovendo sinergie tra istituzioni\, professionisti e società civile\, attraverso azioni di Community Building. \n\nEvento patrocinato FNOMCeO
URL:https://portale.fnomceo.it/eventi-fnomceo/riccione-xxxii-congresso-nazionale-sicp-11-0-evoluzione-delle-reti-per-il-rinnovamento-del-sistema-sanitario-nazionale/
LOCATION:Riccione\, Riccione\, Italia
CATEGORIES:Eventi patrocinati,Formazione e aggiornamento
GEO:43.9921085;12.6503292
END:VEVENT
END:VCALENDAR