BEGIN:VCALENDAR
VERSION:2.0
PRODID:-//FNOMCeO - ECPv5.16.4//NONSGML v1.0//EN
CALSCALE:GREGORIAN
METHOD:PUBLISH
X-WR-CALNAME:FNOMCeO
X-ORIGINAL-URL:https://portale.fnomceo.it
X-WR-CALDESC:Eventi per FNOMCeO
BEGIN:VTIMEZONE
TZID:Europe/Rome
BEGIN:DAYLIGHT
TZOFFSETFROM:+0100
TZOFFSETTO:+0200
TZNAME:CEST
DTSTART:20240331T010000
END:DAYLIGHT
BEGIN:STANDARD
TZOFFSETFROM:+0200
TZOFFSETTO:+0100
TZNAME:CET
DTSTART:20241027T010000
END:STANDARD
END:VTIMEZONE
BEGIN:VEVENT
DTSTART;TZID=Europe/Rome:20240517T100000
DTEND;TZID=Europe/Rome:20240517T183000
DTSTAMP:20260424T105829
CREATED:20240506T105755Z
LAST-MODIFIED:20240506T110310Z
UID:77430-1715940000-1715970600@portale.fnomceo.it
SUMMARY:Rimini\, Convegno Commissione Albo Odontoiatri nazionale
DESCRIPTION:Convegno Commissione Albo Odontoiatri nazionale\nRimini\, Expodental Meeting\n17 maggio 2024 \n  \nIn occasione di Expodental Meeting 2024\, che si svolgerà a Rimini dal 16 al 18 maggio pv\, la Commissione Albo Odontoiatri nazionale organizza alla Fiera di Rimini un convegno\, in collaborazione con UNIDI\, che porterà alla più importante fiera di settore italiana alcune delle eccellenze dell’odontoiatria nazionale. \nIl programma degli appuntamenti di formazione e aggiornamento su temi di stretta attualità per i professionisti dell’odontoiatria: \n  \n  \nEXPODENTAL RIMINI 2024\nCONVEGNO\nCommissione Albo Odontoiatri Nazionale\ne\nUnione Nazionale Industrie Dentali Italiane\nVenerdì 17 maggio 2024 dalle 10:00 alle 13:30 \nOre 10:00\nPRESENTAZIONE:\nDr. Fabio Velotti\, Presidente UNIDI\nDr. Raffaele Iandolo\, Presidente Albo Odontoiatri \n**** \nOre 10.15\nI SESSIONE\nPresidente di Sessione: Dr.ssa Elena Boscagin\, Segretario CAO Nazionale\nRelatore: Prof. Salvatore D’Amato – Presidente Italian Academy of Esthetic Dentistry\nTitolo “Estetica oggi: osservazioni e riflessioni”.\n**** \nOre 11.00\nII SESSIONE\nPresidente di Sessione: Dr. Gianluigi d’Agostino\, Tesoriere FNOMCeO\nRelatore: Prof. Antonio Pelliccia – Università Cattolica\, Roma\nTitolo “L’intelligenza artificiale e quella emotiva\, due componenti nelle scelte sociali ed economiche”. \n**** \nOre 11.30\nIII SESSIONE\nPresidente di Sessione: Dr. Andrea Senna\, Componente CAO Nazionale\nRelatore: Dr.ssa Silvia Tanarri – General Director Thema e docente UNIDI Accademy\nTitolo “Identificazione e tracciabilità dei dispositivi medici: ruolo e responsabilità degli operatori\neconomici”.\n**** \nOre 12:30\nIV SESSIONE\nPresidente di Sessione: Dr. Diego Paschina\, Vicepresidente CAO Nazionale\nRelatore: Prof. Luigi Laino – Presidente Società Italiana di Chirurgia Odontostomatologica\nTitolo “Management chirurgico dei terzi molari inferiori”.\n****\ndalle ore 13:15\nDiscussione\, domande\nChiusura dei lavori \n 
URL:https://portale.fnomceo.it/eventi-fnomceo/rimini-convegno-commissione-albo-odontoiatri-nazionale-2/
LOCATION:Fiera Rimini\, via Emilia 155\, Rimini\, Italia
CATEGORIES:Eventi degli Ordini,Formazione e aggiornamento
ATTACH;FMTTYPE=image/png:https://portale.fnomceo.it/wp-content/uploads/2024/05/convegno-rimini-2024.png
GEO:44.0723466;12.5265758
X-APPLE-STRUCTURED-LOCATION;VALUE=URI;X-ADDRESS=Fiera Rimini via Emilia 155 Rimini Italia;X-APPLE-RADIUS=500;X-TITLE=via Emilia 155:geo:12.5265758,44.0723466
END:VEVENT
END:VCALENDAR