BEGIN:VCALENDAR
VERSION:2.0
PRODID:-//FNOMCeO - ECPv5.16.4//NONSGML v1.0//EN
CALSCALE:GREGORIAN
METHOD:PUBLISH
X-WR-CALNAME:FNOMCeO
X-ORIGINAL-URL:https://portale.fnomceo.it
X-WR-CALDESC:Eventi per FNOMCeO
BEGIN:VTIMEZONE
TZID:Europe/Rome
BEGIN:DAYLIGHT
TZOFFSETFROM:+0100
TZOFFSETTO:+0200
TZNAME:CEST
DTSTART:20190331T010000
END:DAYLIGHT
BEGIN:STANDARD
TZOFFSETFROM:+0200
TZOFFSETTO:+0100
TZNAME:CET
DTSTART:20191027T010000
END:STANDARD
END:VTIMEZONE
BEGIN:VEVENT
DTSTART;TZID=Europe/Rome:20190518T093000
DTEND;TZID=Europe/Rome:20190518T123000
DTSTAMP:20260424T012943
CREATED:20190513T103109Z
LAST-MODIFIED:20190513T103109Z
UID:41954-1558171800-1558182600@portale.fnomceo.it
SUMMARY:Rimini\, Decima giornata del Medico e dell'Odontoiatra
DESCRIPTION:
URL:https://portale.fnomceo.it/eventi-fnomceo/rimini-decima-giornata-del-medico-e-dellodontoiatra/
LOCATION:Grand Hotel di Rimini\, Parco Federico Fellini\, Rimini\, Italia
CATEGORIES:Eventi degli Ordini
ORGANIZER;CN="OMCeO%20Rimini":MAILTO:info@omceo.rn.it
GEO:44.0718312;12.5771887
X-APPLE-STRUCTURED-LOCATION;VALUE=URI;X-ADDRESS=Grand Hotel di Rimini Parco Federico Fellini Rimini Italia;X-APPLE-RADIUS=500;X-TITLE=Parco Federico Fellini:geo:12.5771887,44.0718312
END:VEVENT
END:VCALENDAR