BEGIN:VCALENDAR
VERSION:2.0
PRODID:-//FNOMCeO - ECPv5.16.4//NONSGML v1.0//EN
CALSCALE:GREGORIAN
METHOD:PUBLISH
X-WR-CALNAME:FNOMCeO
X-ORIGINAL-URL:https://portale.fnomceo.it
X-WR-CALDESC:Eventi per FNOMCeO
BEGIN:VTIMEZONE
TZID:Europe/Rome
BEGIN:DAYLIGHT
TZOFFSETFROM:+0100
TZOFFSETTO:+0200
TZNAME:CEST
DTSTART:20190331T010000
END:DAYLIGHT
BEGIN:STANDARD
TZOFFSETFROM:+0200
TZOFFSETTO:+0100
TZNAME:CET
DTSTART:20191027T010000
END:STANDARD
END:VTIMEZONE
BEGIN:VEVENT
DTSTART;TZID=Europe/Rome:20190926T080000
DTEND;TZID=Europe/Rome:20190928T170000
DTSTAMP:20260423T153140
CREATED:20190727T083643Z
LAST-MODIFIED:20190729T094505Z
UID:44063-1569484800-1569690000@portale.fnomceo.it
SUMMARY:Riva del Garda\, “28° Congresso Nazionale AIO – Odontoiatri per il domani”
DESCRIPTION:Il XXVIII Congresso Nazionale di Associazione Italiana Odontoiatri\, in programma a Riva del Garda dal 26 al 28 settembre prossimi. “Odontoiatri per il Domani” ospita il giovedì sessioni disegnate in collaborazione con l’Università e il Collegio dei Docenti Universitari di discipline Odontostomatologiche e i giorni successivi alcuni maestri dell’Odontoiatria.
URL:https://portale.fnomceo.it/eventi-fnomceo/riva-del-garda-28-congresso-nazionale-aio-odontoiatri-per-il-domani/
LOCATION:Centro congressi Riva del Garda\, Parco Lido 1\, Riva del Garda\, TN\, 38066\, Italia
CATEGORIES:Formazione e aggiornamento
GEO:45.8838251;10.8453604
X-APPLE-STRUCTURED-LOCATION;VALUE=URI;X-ADDRESS=Centro congressi Riva del Garda Parco Lido 1 Riva del Garda TN 38066 Italia;X-APPLE-RADIUS=500;X-TITLE=Parco Lido 1:geo:10.8453604,45.8838251
END:VEVENT
END:VCALENDAR