BEGIN:VCALENDAR
VERSION:2.0
PRODID:-//FNOMCeO - ECPv5.16.4//NONSGML v1.0//EN
CALSCALE:GREGORIAN
METHOD:PUBLISH
X-WR-CALNAME:FNOMCeO
X-ORIGINAL-URL:https://portale.fnomceo.it
X-WR-CALDESC:Eventi per FNOMCeO
BEGIN:VTIMEZONE
TZID:Europe/Rome
BEGIN:DAYLIGHT
TZOFFSETFROM:+0100
TZOFFSETTO:+0200
TZNAME:CEST
DTSTART:20180325T010000
END:DAYLIGHT
BEGIN:STANDARD
TZOFFSETFROM:+0200
TZOFFSETTO:+0100
TZNAME:CET
DTSTART:20181028T010000
END:STANDARD
END:VTIMEZONE
BEGIN:VEVENT
DTSTART;TZID=Europe/Rome:20181115T100000
DTEND;TZID=Europe/Rome:20181115T170000
DTSTAMP:20260425T195151
CREATED:20181026T130054Z
LAST-MODIFIED:20181102T165217Z
UID:37240-1542276000-1542301200@portale.fnomceo.it
SUMMARY:Roma\, "40 anni del Servizio Sanitario Nazionale. La conquista di un diritto\, un impegno per il futuro"
DESCRIPTION:
URL:https://portale.fnomceo.it/eventi-fnomceo/roma-40-anni-del-servizio-sanitario-nazionale-la-conquista-di-un-diritto-un-impegno-per-il-futuro/
LOCATION:Grand Hotel Plaza\, Via del Corso 126\, Roma\, Italia
CATEGORIES:Eventi degli Ordini
GEO:41.9051438;12.4788434
X-APPLE-STRUCTURED-LOCATION;VALUE=URI;X-ADDRESS=Grand Hotel Plaza Via del Corso 126 Roma Italia;X-APPLE-RADIUS=500;X-TITLE=Via del Corso 126:geo:12.4788434,41.9051438
END:VEVENT
END:VCALENDAR