BEGIN:VCALENDAR
VERSION:2.0
PRODID:-//FNOMCeO - ECPv5.16.4//NONSGML v1.0//EN
CALSCALE:GREGORIAN
METHOD:PUBLISH
X-WR-CALNAME:FNOMCeO
X-ORIGINAL-URL:https://portale.fnomceo.it
X-WR-CALDESC:Eventi per FNOMCeO
BEGIN:VTIMEZONE
TZID:Europe/Rome
BEGIN:DAYLIGHT
TZOFFSETFROM:+0100
TZOFFSETTO:+0200
TZNAME:CEST
DTSTART:20200329T010000
END:DAYLIGHT
BEGIN:STANDARD
TZOFFSETFROM:+0200
TZOFFSETTO:+0100
TZNAME:CET
DTSTART:20201025T010000
END:STANDARD
END:VTIMEZONE
BEGIN:VEVENT
DTSTART;TZID=Europe/Rome:20200227T193000
DTEND;TZID=Europe/Rome:20200227T220000
DTSTAMP:20260425T033941
CREATED:20200218T113524Z
LAST-MODIFIED:20200218T113524Z
UID:48526-1582831800-1582840800@portale.fnomceo.it
SUMMARY:Roma\, Convegno “Diritti delle Donne Calpestati”
DESCRIPTION:Il movimento internazionale Transculturale interprofessionale Uniti per Unire (UXU) insieme alle associazioni e comunità aderenti compresa la comunità del mondo arabo in Italia (Co-mai) e l’associazione medici di origine straniera in Italia (Amsi) e L’Unione Medica Euro Mediterranea (UMEM) insieme all’Associazione Nuove Frontiere del Diritto promuovono e organizzano il 27.02 con inizio ore 19.30 il Convegno “Diritti delle Donne Calpestati” presso Snodo in via del Mandrione 63 zona Porta Maggiore – Casilina .
URL:https://portale.fnomceo.it/eventi-fnomceo/roma-convegno-diritti-delle-donne-calpestati/
LOCATION:Roma\, SNODO\, Via del Mandrione\, 63\, Roma\, 00181\, Italia
GEO:41.8803349;12.5331427
X-APPLE-STRUCTURED-LOCATION;VALUE=URI;X-ADDRESS=Roma SNODO Via del Mandrione 63 Roma 00181 Italia;X-APPLE-RADIUS=500;X-TITLE=Via del Mandrione\, 63:geo:12.5331427,41.8803349
END:VEVENT
END:VCALENDAR