BEGIN:VCALENDAR
VERSION:2.0
PRODID:-//FNOMCeO - ECPv5.16.4//NONSGML v1.0//EN
CALSCALE:GREGORIAN
METHOD:PUBLISH
X-WR-CALNAME:FNOMCeO
X-ORIGINAL-URL:https://portale.fnomceo.it
X-WR-CALDESC:Eventi per FNOMCeO
BEGIN:VTIMEZONE
TZID:Europe/Rome
BEGIN:DAYLIGHT
TZOFFSETFROM:+0100
TZOFFSETTO:+0200
TZNAME:CEST
DTSTART:20190331T010000
END:DAYLIGHT
BEGIN:STANDARD
TZOFFSETFROM:+0200
TZOFFSETTO:+0100
TZNAME:CET
DTSTART:20191027T010000
END:STANDARD
END:VTIMEZONE
BEGIN:VEVENT
DTSTART;TZID=Europe/Rome:20190112T083000
DTEND;TZID=Europe/Rome:20190112T140000
DTSTAMP:20260423T223320
CREATED:20190104T110926Z
LAST-MODIFIED:20190104T110926Z
UID:38845-1547281800-1547301600@portale.fnomceo.it
SUMMARY:Roma\, corso di aggiornamento "La Neurochirurgia del San Giovanni Addolorata per il territorio"
DESCRIPTION:Quale neo assunto alla direzione della Neurochirurgia del San Giovanni\, incarico accolto con gioia e senso di responsabilità\, colgo l’occasione per presentarmi estendendo l’invito a tutta l’equipe nell’intento di qualificarci sia per le competenze professionali individuali che per quelle di equipe a copertura della patologia neurochirurgica.\nPur nella continuità di servizio al territorio è nostra intenzione imprimere una profonda svolta per la modernizzazione\, sia organizzativa che tecnologica della Neurochirurgia e dell’area delle Neuroscienze\, quale doveroso adeguamento ai migliori standard assistenziali. Si vuole sottolineare: \n come le attività di supporto (“servizi” quali la Terapia Intensiva\, la Neuroradiologia\, la Neuroriabilitazione\, ecc.) si siano in questi ultimi anni sempre più sviluppate e quindi specializzate incidendo fortemente sulla qualità dei reparti\ndi cura\, e devono essere ripristinate nel nostro contesto\, e come gli strumenti terapeutici siano diversificati\, sia\nall’interno della neurochirurgia che delle discipline non chirurgiche affini\, e debbano essere integrati e impiegati\nsecondo indicazioni comuni. \nQuesto spirito di integrazione\, nella ricerca della specializzazione\, è sentito come particolarmente qualificante allorchè si voglia perseguire il raggiungimento di percorsi centrati sul paziente – più che sulla malattia – tarati sulle esigenze cliniche\, ma anche su quelle personali e ambientali\, per assicurare la qualità delle cure e la continuità assistenziale\, anche dopo la dimissione. Questa è per noi la modernità e in quest’ottica abbiamo il piacere di presentarci e metterci a vostra disposizione nella speranza di poter rispondere alle vostre aspettative.\nPresenteremo alcuni argomenti clinici che ci identificano\, ognuno secondo le proprie capacità e inclinazioni.\nSarà una mattinata all’insegna della spensieratezza e della convialità. \nCari colleghi\, la Neurochirurgia del San Giovanni è una realtà che chiede di essere conosciuta perchè in pochi anni si è molto trasformata dotandosi di valide professionalità di cui la mia è solo l’ultima.
URL:https://portale.fnomceo.it/eventi-fnomceo/roma-corso-di-aggiornamento-la-neurochirurgia-del-san-giovanni-addolorata-per-il-territorio/
LOCATION:Azienda Ospedaliera San Giovanni – Addolorata\, Piazza San Giovanni in Laterano 76\, Roma\, Italia
CATEGORIES:Eventi degli Ordini,Formazione e aggiornamento
GEO:41.8871465;12.5049439
X-APPLE-STRUCTURED-LOCATION;VALUE=URI;X-ADDRESS=Azienda Ospedaliera San Giovanni – Addolorata Piazza San Giovanni in Laterano 76 Roma Italia;X-APPLE-RADIUS=500;X-TITLE=Piazza San Giovanni in Laterano 76:geo:12.5049439,41.8871465
END:VEVENT
END:VCALENDAR