BEGIN:VCALENDAR
VERSION:2.0
PRODID:-//FNOMCeO - ECPv5.16.4//NONSGML v1.0//EN
CALSCALE:GREGORIAN
METHOD:PUBLISH
X-WR-CALNAME:FNOMCeO
X-ORIGINAL-URL:https://portale.fnomceo.it
X-WR-CALDESC:Eventi per FNOMCeO
BEGIN:VTIMEZONE
TZID:Europe/Rome
BEGIN:DAYLIGHT
TZOFFSETFROM:+0100
TZOFFSETTO:+0200
TZNAME:CEST
DTSTART:20190331T010000
END:DAYLIGHT
BEGIN:STANDARD
TZOFFSETFROM:+0200
TZOFFSETTO:+0100
TZNAME:CET
DTSTART:20191027T010000
END:STANDARD
END:VTIMEZONE
BEGIN:VEVENT
DTSTART;TZID=Europe/Rome:20191119T100000
DTEND;TZID=Europe/Rome:20191119T180000
DTSTAMP:20260421T080556
CREATED:20191104T102141Z
LAST-MODIFIED:20191104T112745Z
UID:46433-1574157600-1574186400@portale.fnomceo.it
SUMMARY:Roma\, “Corso di formazione AMR One Health”
DESCRIPTION:Scopo del corso è mettere in comune le conoscenze e competenze di base di Medici\, Medici Veterinari e Farmacisti in relazione al tema dell’antimicrobico-resistenza (AMR)\, che troppo spesso\, ancora oggi\, non è pienamente conosciuto dal personale sanitario. Nella maggioranza dei casi\, non c’è consapevolezza reciproca delle criticità e delle azioni migliorative messe in atto nei due settori (medico e veterinario)\, pur essendo l’AMR una problematica pienamente condivisa da animali e uomo. Proprio per questo il corso evidenzia la necessità di un approccio One Health e mette in luce la rilevanza del problema\, promuovendo l’integrazione interprofessionale.\nIl discente\, per ottenere i 7\,8 crediti ECM assegnati all’evento\, dovrà aver frequentato il 90% delle lezioni proposte\, compilato la scheda di valutazione dell’evento ed aver risposto correttamente ad almeno il 75% delle domande del questionario.
URL:https://portale.fnomceo.it/eventi-fnomceo/roma-corso-di-formazione-amr-one-health/
LOCATION:Auditorium Ministero della Salute\, viale Giorgio Ribotta 5\, Roma\, Italia
CATEGORIES:Eventi degli Ordini,Formazione e aggiornamento
GEO:41.820186;12.459126
X-APPLE-STRUCTURED-LOCATION;VALUE=URI;X-ADDRESS=Auditorium Ministero della Salute viale Giorgio Ribotta 5 Roma Italia;X-APPLE-RADIUS=500;X-TITLE=viale Giorgio Ribotta 5:geo:12.459126,41.820186
END:VEVENT
END:VCALENDAR