BEGIN:VCALENDAR
VERSION:2.0
PRODID:-//FNOMCeO - ECPv5.16.4//NONSGML v1.0//EN
CALSCALE:GREGORIAN
METHOD:PUBLISH
X-WR-CALNAME:FNOMCeO
X-ORIGINAL-URL:https://portale.fnomceo.it
X-WR-CALDESC:Eventi per FNOMCeO
BEGIN:VTIMEZONE
TZID:Europe/Rome
BEGIN:DAYLIGHT
TZOFFSETFROM:+0100
TZOFFSETTO:+0200
TZNAME:CEST
DTSTART:20180325T010000
END:DAYLIGHT
BEGIN:STANDARD
TZOFFSETFROM:+0200
TZOFFSETTO:+0100
TZNAME:CET
DTSTART:20181028T010000
END:STANDARD
END:VTIMEZONE
BEGIN:VEVENT
DTSTART;TZID=Europe/Rome:20181120T100000
DTEND;TZID=Europe/Rome:20181121T180000
DTSTAMP:20260425T232352
CREATED:20181112T140521Z
LAST-MODIFIED:20181112T140521Z
UID:37729-1542708000-1542823200@portale.fnomceo.it
SUMMARY:Roma\, "Il ruolo del farmacologo nel Sistema Sanitario Nazionale"
DESCRIPTION:L’evento si propone di analizzare il ruolo del farmacologo nel Servizio Sanitario Nazionale (SSN).\nSi vuole fare il punto su come il farmacologo possa essere al servizio del SSN e come possa dare il suo\ncontributo scientifico\, di opinione\, di conoscenza\, nonché stimolare un dibattito su alcune attuali tematiche\ndi interesse nazionale ed internazionale come:\n• Conflitto d’interesse e sperimentazioni cliniche\n• La ricerca clinica in Italia e in Europa\n• Ricerca clinica in pediatria\n• Real World Evidence\n• L’equivalenza terapeutica\n• SIF (in)forma: il progetto EquiBios – SIF (Società Italiana di Farmacologia)\nLa struttura dell’evento prevede una prima parte di approfondimento sui temi sopra riportati e da cui\nscaturiranno documenti da condividere con le altre Società scientifiche e una seconda di confronto con\nSocietà Scientifiche cliniche relativamente ad alcune aree come le malattie infettive\, le malattie rare e le\nterapie geniche\, l’oncologia\, il CNS (Central Nervous System) e il diabete.
URL:https://portale.fnomceo.it/eventi-fnomceo/roma-il-ruolo-del-farmacologo-nel-sistema-sanitario-nazionale/
LOCATION:Bettoja Hotel Massimo D’Azeglio\, Via Cavour 18\, Roma\, Italia
CATEGORIES:Formazione e aggiornamento
GEO:41.9000153;12.4994669
X-APPLE-STRUCTURED-LOCATION;VALUE=URI;X-ADDRESS=Bettoja Hotel Massimo D’Azeglio Via Cavour 18 Roma Italia;X-APPLE-RADIUS=500;X-TITLE=Via Cavour 18:geo:12.4994669,41.9000153
END:VEVENT
END:VCALENDAR