BEGIN:VCALENDAR
VERSION:2.0
PRODID:-//FNOMCeO - ECPv5.16.4//NONSGML v1.0//EN
CALSCALE:GREGORIAN
METHOD:PUBLISH
X-WR-CALNAME:FNOMCeO
X-ORIGINAL-URL:https://portale.fnomceo.it
X-WR-CALDESC:Eventi per FNOMCeO
BEGIN:VTIMEZONE
TZID:Europe/Rome
BEGIN:DAYLIGHT
TZOFFSETFROM:+0100
TZOFFSETTO:+0200
TZNAME:CEST
DTSTART:20240331T010000
END:DAYLIGHT
BEGIN:STANDARD
TZOFFSETFROM:+0200
TZOFFSETTO:+0100
TZNAME:CET
DTSTART:20241027T010000
END:STANDARD
END:VTIMEZONE
BEGIN:VEVENT
DTSTART;TZID=Europe/Rome:20241207T083000
DTEND;TZID=Europe/Rome:20241207T140000
DTSTAMP:20260423T105039
CREATED:20241121T155120Z
LAST-MODIFIED:20241125T151740Z
UID:81347-1733560200-1733580000@portale.fnomceo.it
SUMMARY:Roma\, "La sicurezza in odontoiatria: ansiolisi e sedazione cosciente"
DESCRIPTION:“La sicurezza in odontoiatria: ansiolisi e sedazione cosciente”\nRoma\, Ospedale pediatrico Bambin Gesù\n7 dicembre 2024 \nSi terrà il 7 dicembre a Roma il corso dal titolo “La sicurezza in odontoiatria\, ansiolisi e sedazione cosciente”\, organizzato da AISOD (Associazione Italiana Sedazionisti Odontoiatri) durante il quale verranno approfonditi aspetti legati alla sedazione cosciente e alla farmacologia degli anestetici locali. \nLa partecipazione è gratuita ma è necessario iscriversi tramite questo link.
URL:https://portale.fnomceo.it/eventi-fnomceo/roma-la-sicurezza-in-odontoiatria-ansiolisi-e-sedazione-cosciente/
LOCATION:Roma\, Ospedale pediatrico “Bambin Gesù”\, Viale Baldelli\, 38\, Roma\, Italia
CATEGORIES:Formazione e aggiornamento
ATTACH;FMTTYPE=image/png:https://portale.fnomceo.it/wp-content/uploads/2024/11/aisod24.png
GEO:41.8572312;12.4750618
X-APPLE-STRUCTURED-LOCATION;VALUE=URI;X-ADDRESS=Roma Ospedale pediatrico “Bambin Gesù” Viale Baldelli 38 Roma Italia;X-APPLE-RADIUS=500;X-TITLE=Viale Baldelli\, 38:geo:12.4750618,41.8572312
END:VEVENT
END:VCALENDAR