BEGIN:VCALENDAR
VERSION:2.0
PRODID:-//FNOMCeO - ECPv5.16.4//NONSGML v1.0//EN
CALSCALE:GREGORIAN
METHOD:PUBLISH
X-WR-CALNAME:FNOMCeO
X-ORIGINAL-URL:https://portale.fnomceo.it
X-WR-CALDESC:Eventi per FNOMCeO
BEGIN:VTIMEZONE
TZID:Europe/Rome
BEGIN:DAYLIGHT
TZOFFSETFROM:+0100
TZOFFSETTO:+0200
TZNAME:CEST
DTSTART:20190331T010000
END:DAYLIGHT
BEGIN:STANDARD
TZOFFSETFROM:+0200
TZOFFSETTO:+0100
TZNAME:CET
DTSTART:20191027T010000
END:STANDARD
END:VTIMEZONE
BEGIN:VEVENT
DTSTART;TZID=Europe/Rome:20190620T083000
DTEND;TZID=Europe/Rome:20190620T133000
DTSTAMP:20260425T144013
CREATED:20190524T145321Z
LAST-MODIFIED:20190524T145321Z
UID:42346-1561019400-1561037400@portale.fnomceo.it
SUMMARY:Roma\, “Le eccellenze dell’informazione scientifica e la centralità del paziente”
DESCRIPTION:La salute dei cittadini è un obiettivo primario della Società\, condiviso tra Istituzioni\, Sanità Pubblica e Privata\, Università\, Centri di Ricerca\, Aziende farmaceutiche\, Associazioni di Pazienti e Cittadini. \nL’informazione scientifica rappresenta lo strumento d’elezione per promuovere progetti\, che – in molti casi – hanno la capacità di salvare la vita dei pazienti e/o di migliorarne la qualità della vita.\nIl premio “Le Eccellenze dell’Informazione Scientifica e la Centralità del Paziente” – promosso dall’Osservatorio Comunicazione Medico Scientifica (OCMS) – mira al riconoscimento della qualità dei progetti di informazione scientifica. \nLa principale caratteristica del Premio è valorizzare i progetti che hanno generato un reale beneficio per la salute dei cittadini e un decisivo progresso verso l’affermazione della centralità del paziente\, affidando la scelta delle eccellenze ai reali fruitori dei messaggi informativi: i medici\, cui spetta in concreto la cura dei pazienti.
URL:https://portale.fnomceo.it/eventi-fnomceo/roma-le-eccellenze-dellinformazione-scientifica-e-la-centralita-del-paziente/
LOCATION:Palazzo Santa Chiara\, Piazza di S. Chiara\, 14\, Roma\, 00186\, Italia
GEO:41.8976968;12.4766419
X-APPLE-STRUCTURED-LOCATION;VALUE=URI;X-ADDRESS=Palazzo Santa Chiara Piazza di S. Chiara 14 Roma 00186 Italia;X-APPLE-RADIUS=500;X-TITLE=Piazza di S. Chiara\, 14:geo:12.4766419,41.8976968
END:VEVENT
END:VCALENDAR