BEGIN:VCALENDAR
VERSION:2.0
PRODID:-//FNOMCeO - ECPv5.16.4//NONSGML v1.0//EN
CALSCALE:GREGORIAN
METHOD:PUBLISH
X-WR-CALNAME:FNOMCeO
X-ORIGINAL-URL:https://portale.fnomceo.it
X-WR-CALDESC:Eventi per FNOMCeO
BEGIN:VTIMEZONE
TZID:Europe/Rome
BEGIN:DAYLIGHT
TZOFFSETFROM:+0100
TZOFFSETTO:+0200
TZNAME:CEST
DTSTART:20210328T010000
END:DAYLIGHT
BEGIN:STANDARD
TZOFFSETFROM:+0200
TZOFFSETTO:+0100
TZNAME:CET
DTSTART:20211031T010000
END:STANDARD
END:VTIMEZONE
BEGIN:VEVENT
DTSTART;TZID=Europe/Rome:20210201T080000
DTEND;TZID=Europe/Rome:20210201T170000
DTSTAMP:20260422T181311
CREATED:20200624T145343Z
LAST-MODIFIED:20200624T145343Z
UID:51745-1612166400-1612198800@portale.fnomceo.it
SUMMARY:Roma\, Master di II livello in “Competenze e servizi giuridici in Sanità”
DESCRIPTION:L’Alta Scuola di Economia e Management dei Sistemi Sanitari (ALTEMS) dell’Università Cattolica del Sacro Cuore istituisce\, per l’anno accademico 2019-2020\, la sesta edizione del Master Universitario di secondo livello in “Competenze e Servizi Giuridici in Sanità” in collaborazione con le Facoltà di Economia e di Medicina e chirurgia dell’Ateneo e con Fondazione Policlinico Universitario Agostino Gemelli IRCCS. \n  \n 
URL:https://portale.fnomceo.it/eventi-fnomceo/roma-master-di-ii-livello-in-competenze-e-servizi-giuridici-in-sanita/
LOCATION:Università Cattolica del Sacro Cuore\, Largo F. Vito 1\, Roma\, 00168\, Italia
CATEGORIES:Formazione e aggiornamento
GEO:41.9332149;12.4274468
X-APPLE-STRUCTURED-LOCATION;VALUE=URI;X-ADDRESS=Università Cattolica del Sacro Cuore Largo F. Vito 1 Roma 00168 Italia;X-APPLE-RADIUS=500;X-TITLE=Largo F. Vito 1:geo:12.4274468,41.9332149
END:VEVENT
END:VCALENDAR