BEGIN:VCALENDAR
VERSION:2.0
PRODID:-//FNOMCeO - ECPv5.16.4//NONSGML v1.0//EN
CALSCALE:GREGORIAN
METHOD:PUBLISH
X-WR-CALNAME:FNOMCeO
X-ORIGINAL-URL:https://portale.fnomceo.it
X-WR-CALDESC:Eventi per FNOMCeO
BEGIN:VTIMEZONE
TZID:Europe/Rome
BEGIN:DAYLIGHT
TZOFFSETFROM:+0100
TZOFFSETTO:+0200
TZNAME:CEST
DTSTART:20210328T010000
END:DAYLIGHT
BEGIN:STANDARD
TZOFFSETFROM:+0200
TZOFFSETTO:+0100
TZNAME:CET
DTSTART:20211031T010000
END:STANDARD
END:VTIMEZONE
BEGIN:VEVENT
DTSTART;TZID=Europe/Rome:20210225T080000
DTEND;TZID=Europe/Rome:20210225T170000
DTSTAMP:20260422T180002
CREATED:20210122T170205Z
LAST-MODIFIED:20210126T095122Z
UID:56250-1614240000-1614272400@portale.fnomceo.it
SUMMARY:Roma\, Master in “Dietologia e Nutrizione” 31° Edizione
DESCRIPTION:Iscrizioni entro il 25 Gennaio 2021 \nLa trasversalità della nutrizione rispetto al benessere o viceversa alle patologie degenerative\, ha accentrato l’attenzione sulla dietologia e dietoterapia di tutto il mondo medico. Pertanto\, si giustifica la necessità di un aggiornamento continuo di tutti coloro che direttamente o indirettamente sono coinvolti nella prevenzione o nella terapia dietetica\, isolatamente o in team specialistici sempre entro le direttive sancite dalla legge.\nIl Master prevede non solo una rivisitazione delle premesse fisio-patologiche\, ma anche l’aggiornamento insito nell’evoluzione e nell’arricchimento epidemiologico del settore.\nIn particolare verrà curato l’aspetto pratico della dietoterapia e il trasferimento ai discenti della manualità e del progresso nella diagnosi e classificazione dei vari gradi di obesità. A riguardo verranno date le informazioni essenziali sui requisiti nutrizionali dei più comuni alimenti e sul ruolo svolto dalle moderne tecnologie alimentari.\nVerrà trattato anche il tema della ristorazione collettiva come momento educativo per gran parte della popolazione sempre nei limiti della tradizione alimentare italiana e del gusto.
URL:https://portale.fnomceo.it/eventi-fnomceo/roma-master-in-dietologia-e-nutrizione-31-edizione/
LOCATION:Roma\, Centro Congressi del “Globus Hotel – Best Western”\, viale Ippocrate\, 119\, Roma\, Italia
CATEGORIES:Formazione e aggiornamento
GEO:41.906273;12.5168513
X-APPLE-STRUCTURED-LOCATION;VALUE=URI;X-ADDRESS=Roma Centro Congressi del “Globus Hotel – Best Western” viale Ippocrate 119 Roma Italia;X-APPLE-RADIUS=500;X-TITLE=viale Ippocrate\, 119:geo:12.5168513,41.906273
END:VEVENT
END:VCALENDAR